BEGIN:VCALENDAR
VERSION:2.0
PRODID:-//Sportfreunde Aligse von 1930 e.V. - ECPv6.15.20//NONSGML v1.0//EN
CALSCALE:GREGORIAN
METHOD:PUBLISH
X-WR-CALNAME:Sportfreunde Aligse von 1930 e.V.
X-ORIGINAL-URL:https://www.sf-aligse.de
X-WR-CALDESC:Veranstaltungen für Sportfreunde Aligse von 1930 e.V.
REFRESH-INTERVAL;VALUE=DURATION:PT1H
X-Robots-Tag:noindex
X-PUBLISHED-TTL:PT1H
BEGIN:VTIMEZONE
TZID:Europe/Berlin
BEGIN:DAYLIGHT
TZOFFSETFROM:+0100
TZOFFSETTO:+0200
TZNAME:CEST
DTSTART:20250330T010000
END:DAYLIGHT
BEGIN:STANDARD
TZOFFSETFROM:+0200
TZOFFSETTO:+0100
TZNAME:CET
DTSTART:20251026T010000
END:STANDARD
BEGIN:DAYLIGHT
TZOFFSETFROM:+0100
TZOFFSETTO:+0200
TZNAME:CEST
DTSTART:20260329T010000
END:DAYLIGHT
BEGIN:STANDARD
TZOFFSETFROM:+0200
TZOFFSETTO:+0100
TZNAME:CET
DTSTART:20261025T010000
END:STANDARD
BEGIN:DAYLIGHT
TZOFFSETFROM:+0100
TZOFFSETTO:+0200
TZNAME:CEST
DTSTART:20270328T010000
END:DAYLIGHT
BEGIN:STANDARD
TZOFFSETFROM:+0200
TZOFFSETTO:+0100
TZNAME:CET
DTSTART:20271031T010000
END:STANDARD
END:VTIMEZONE
BEGIN:VEVENT
DTSTART;TZID=Europe/Berlin:20260425T140000
DTEND;TZID=Europe/Berlin:20260425T180000
DTSTAMP:20260425T015231
CREATED:20260420T134208Z
LAST-MODIFIED:20260420T134208Z
UID:17764-1777125600-1777140000@www.sf-aligse.de
SUMMARY:Voba: Bezirksliga 3 RegV Hannover (Männer)  -  MTV Ilten vs. SF Aligse 3
DESCRIPTION:
URL:https://www.sf-aligse.de/event/voba-bezirksliga-3-regv-hannover-maenner-mtv-ilten-vs-sf-aligse-3/
LOCATION:Sporthalle Ilten\, Hugo-Remmert-Str. 29\, Sehnde OT Ilten\, Niedersachsen\, 31319\, Deutschland
CATEGORIES:VolleyballSpiele Erwachsene (ohne Bu.-Liga/Dritte Liga)
END:VEVENT
BEGIN:VEVENT
DTSTART;TZID=Europe/Berlin:20260425T140000
DTEND;TZID=Europe/Berlin:20260425T180000
DTSTAMP:20260425T015231
CREATED:20260420T134548Z
LAST-MODIFIED:20260420T134548Z
UID:17766-1777125600-1777140000@www.sf-aligse.de
SUMMARY:Voba: Verbandsliga 4 (Frauen)  -  TK Hannover 3 vs. SF Aligse 1
DESCRIPTION:
URL:https://www.sf-aligse.de/event/voba-verbandsliga-4-frauen-tk-hannover-3-vs-sf-aligse-1/
LOCATION:Otfried-Preussler-Schule\, Birkenstr. 12\, Hannover\, Niedersachsen\, 30171
CATEGORIES:Spiele 1. Damen Volleyball
END:VEVENT
BEGIN:VEVENT
DTSTART;TZID=Europe/Berlin:20260425T150000
DTEND;TZID=Europe/Berlin:20260425T190000
DTSTAMP:20260425T015231
CREATED:20260420T132937Z
LAST-MODIFIED:20260420T132937Z
UID:17756-1777129200-1777143600@www.sf-aligse.de
SUMMARY:Voba: Kreisliga 4 RegV Hannover (Frauen)  -  TuS Wettbergen vs. SF Aligse 5
DESCRIPTION:
URL:https://www.sf-aligse.de/event/voba-kreisliga-4-regv-hannover-frauen-tus-wettbergen-vs-sf-aligse-5-2/
LOCATION:Sportpark Wettbergen\, Deveser Straße 32\, Hannover\, Niedersachsen\, 30457\, Deutschland
CATEGORIES:VolleyballSpiele Erwachsene (ohne Bu.-Liga/Dritte Liga)
END:VEVENT
BEGIN:VEVENT
DTSTART;TZID=Europe/Berlin:20260425T150000
DTEND;TZID=Europe/Berlin:20260425T190000
DTSTAMP:20260425T015231
CREATED:20260420T133227Z
LAST-MODIFIED:20260420T133227Z
UID:17758-1777129200-1777143600@www.sf-aligse.de
SUMMARY:Voba: Bezirksklasse 5 RegV Hannover (Frauen)  -  SV Hambühren vs. SF Aligse 4
DESCRIPTION:
URL:https://www.sf-aligse.de/event/voba-bezirksklasse-5-regv-hannover-frauen-sv-hambuehren-vs-sf-aligse-4/
LOCATION:HRS Hambühren\, Versonstr. 4\, Hambühren\, Niedersachsen\, 29313\, Germany
CATEGORIES:VolleyballSpiele Erwachsene (ohne Bu.-Liga/Dritte Liga)
END:VEVENT
BEGIN:VEVENT
DTSTART;TZID=Europe/Berlin:20260425T150000
DTEND;TZID=Europe/Berlin:20260425T190000
DTSTAMP:20260425T015231
CREATED:20260420T133539Z
LAST-MODIFIED:20260420T181651Z
UID:17760-1777129200-1777143600@www.sf-aligse.de
SUMMARY:Voba: Bezirksklasse 2 RegV Hannover (Männer)  -  MTV Groß Buchholz vs. SF Aligse 4
DESCRIPTION:
URL:https://www.sf-aligse.de/event/voba-bezirksklasse-2-regv-hannover-maenner-mtv-gross-buchholz-vs-sf-aligse-iv/
LOCATION:IGS Roderbruch (Halle 1)\, Rotekreuzstr.\, Hannover\, Niedersachsen\, 30627\, Deutschland
CATEGORIES:VolleyballSpiele Erwachsene (ohne Bu.-Liga/Dritte Liga)
END:VEVENT
BEGIN:VEVENT
DTSTART;TZID=Europe/Berlin:20260425T150000
DTEND;TZID=Europe/Berlin:20260425T190000
DTSTAMP:20260425T015231
CREATED:20260420T133904Z
LAST-MODIFIED:20260420T181754Z
UID:17762-1777129200-1777143600@www.sf-aligse.de
SUMMARY:Voba: Landesliga 5 (Frauen)  -  SF Aligse 2  vs.  PSV Hannover 2  und  TSV Horst
DESCRIPTION:
URL:https://www.sf-aligse.de/event/voba-landesliga-5-frauen-sf-aligse-ii-vs-psv-hannover-2-und-tsv-horst/
LOCATION:Sporthalle Friedrichstraße\, Friedrichstraße 9A\, Lehrte\, Niedersachsen\, 31275\, Deutschland
CATEGORIES:VolleyballSpiele Erwachsene (ohne Bu.-Liga/Dritte Liga)
END:VEVENT
END:VCALENDAR