BEGIN:VCALENDAR
VERSION:2.0
PRODID:-//Sportfreunde Aligse von 1930 e.V. - ECPv6.15.20//NONSGML v1.0//EN
CALSCALE:GREGORIAN
METHOD:PUBLISH
X-WR-CALNAME:Sportfreunde Aligse von 1930 e.V.
X-ORIGINAL-URL:https://www.sf-aligse.de
X-WR-CALDESC:Veranstaltungen für Sportfreunde Aligse von 1930 e.V.
REFRESH-INTERVAL;VALUE=DURATION:PT1H
X-Robots-Tag:noindex
X-PUBLISHED-TTL:PT1H
BEGIN:VTIMEZONE
TZID:Europe/Berlin
BEGIN:DAYLIGHT
TZOFFSETFROM:+0100
TZOFFSETTO:+0200
TZNAME:CEST
DTSTART:20250330T010000
END:DAYLIGHT
BEGIN:STANDARD
TZOFFSETFROM:+0200
TZOFFSETTO:+0100
TZNAME:CET
DTSTART:20251026T010000
END:STANDARD
BEGIN:DAYLIGHT
TZOFFSETFROM:+0100
TZOFFSETTO:+0200
TZNAME:CEST
DTSTART:20260329T010000
END:DAYLIGHT
BEGIN:STANDARD
TZOFFSETFROM:+0200
TZOFFSETTO:+0100
TZNAME:CET
DTSTART:20261025T010000
END:STANDARD
BEGIN:DAYLIGHT
TZOFFSETFROM:+0100
TZOFFSETTO:+0200
TZNAME:CEST
DTSTART:20270328T010000
END:DAYLIGHT
BEGIN:STANDARD
TZOFFSETFROM:+0200
TZOFFSETTO:+0100
TZNAME:CET
DTSTART:20271031T010000
END:STANDARD
END:VTIMEZONE
BEGIN:VEVENT
DTSTART;TZID=Europe/Berlin:20260426T100000
DTEND;TZID=Europe/Berlin:20260426T140000
DTSTAMP:20260426T023551
CREATED:20260420T135401Z
LAST-MODIFIED:20260420T135702Z
UID:17770-1777197600-1777212000@www.sf-aligse.de
SUMMARY:Voba: Regionsliga Hannover U14m Endrunde I (Spieltag3) - in Nienhagen - mit SF Aligse 1 und 2
DESCRIPTION:SF Aligse 1 spielt gegen SF Aligse 2 und GfL Hannover\, \nSF Aligse 2 spielt außer gegen SF Aligse 1 auch noch gegen TK Hannover und SV Nienhagen
URL:https://www.sf-aligse.de/event/voba-regionsliga-hannover-u14m-endrunde-i-spieltag3-in-nienhagen-mit-sf-aligse-1-und-2/
LOCATION:SH am Europabad\, Jahnring 19\, Nienhagen\, Niedersachsen\, 29336\, Deutschland
CATEGORIES:Spiele Jugendligen
END:VEVENT
BEGIN:VEVENT
DTSTART;TZID=Europe/Berlin:20260426T140000
DTEND;TZID=Europe/Berlin:20260426T180000
DTSTAMP:20260426T023551
CREATED:20260420T134853Z
LAST-MODIFIED:20260420T134853Z
UID:17768-1777212000-1777226400@www.sf-aligse.de
SUMMARY:Voba: Landesliga 5 (Männer)  -  GfL Hannover 3 vs. SF Aligse 2
DESCRIPTION:
URL:https://www.sf-aligse.de/event/voba-landesliga-5-maenner-gfl-hannover-3-vs-sf-aligse-2/
LOCATION:Freie Waldorfschule Hannover (Neue Halle)\, Rudolf-von-Bennigsen-Ufer 70\, Hannover\, 30173\, Deutschland
CATEGORIES:VolleyballSpiele Erwachsene (ohne Bu.-Liga/Dritte Liga)
END:VEVENT
END:VCALENDAR