BEGIN:VCALENDAR
VERSION:2.0
PRODID:-//Sportfreunde Aligse von 1930 e.V. - ECPv6.15.20//NONSGML v1.0//EN
CALSCALE:GREGORIAN
METHOD:PUBLISH
X-ORIGINAL-URL:https://www.sf-aligse.de
X-WR-CALDESC:Veranstaltungen für Sportfreunde Aligse von 1930 e.V.
REFRESH-INTERVAL;VALUE=DURATION:PT1H
X-Robots-Tag:noindex
X-PUBLISHED-TTL:PT1H
BEGIN:VTIMEZONE
TZID:Europe/Berlin
BEGIN:DAYLIGHT
TZOFFSETFROM:+0100
TZOFFSETTO:+0200
TZNAME:CEST
DTSTART:20220327T010000
END:DAYLIGHT
BEGIN:STANDARD
TZOFFSETFROM:+0200
TZOFFSETTO:+0100
TZNAME:CET
DTSTART:20221030T010000
END:STANDARD
BEGIN:DAYLIGHT
TZOFFSETFROM:+0100
TZOFFSETTO:+0200
TZNAME:CEST
DTSTART:20230326T010000
END:DAYLIGHT
BEGIN:STANDARD
TZOFFSETFROM:+0200
TZOFFSETTO:+0100
TZNAME:CET
DTSTART:20231029T010000
END:STANDARD
BEGIN:DAYLIGHT
TZOFFSETFROM:+0100
TZOFFSETTO:+0200
TZNAME:CEST
DTSTART:20240331T010000
END:DAYLIGHT
BEGIN:STANDARD
TZOFFSETFROM:+0200
TZOFFSETTO:+0100
TZNAME:CET
DTSTART:20241027T010000
END:STANDARD
END:VTIMEZONE
BEGIN:VEVENT
DTSTART;TZID=Europe/Berlin:20230902T110000
DTEND;TZID=Europe/Berlin:20230902T180000
DTSTAMP:20260422T122526
CREATED:20230901T174057Z
LAST-MODIFIED:20230901T174057Z
UID:13429-1693652400-1693677600@www.sf-aligse.de
SUMMARY:Volleyball - Landespokal Herren\, Turnier II mit SF Aligse 3 (in Hannover)
DESCRIPTION:Teilnehmer: SV Altencelle\, GfL Hannover 3\, SF Aligse 3\, VfL Westercelle\, TV Jahn Wolfsburg und TSV Ottersberg
URL:https://www.sf-aligse.de/event/volleyball-landespokal-herren-turnier-ii-mit-sf-aligse-3-in-hannover/
LOCATION:Freie Waldorfschule Hannover (Neue Halle)\, Rudolf-von-Bennigsen-Ufer 70\, Hannover\, 30173\, Deutschland
CATEGORIES:Pokalspiele
ATTACH;FMTTYPE=image/jpeg:https://www.sf-aligse.de/wp-content/uploads/2018/02/Mikasa_200.jpg
END:VEVENT
BEGIN:VEVENT
DTSTART;TZID=Europe/Berlin:20230903T100000
DTEND;TZID=Europe/Berlin:20230903T170000
DTSTAMP:20260422T122526
CREATED:20230901T175205Z
LAST-MODIFIED:20230901T175205Z
UID:13431-1693735200-1693760400@www.sf-aligse.de
SUMMARY:Volleyball - Landespokal Damen\, Turnier V mit SF Aligse 1 (in Bad Salzdetfurth)
DESCRIPTION:Teilnehmer: VfL Uetze\, MTV SG Borsum/Harsum/Achtum 2\, VSG Düngen/Holle/Bodenburg 2\, SF Aligse 1\, TSV Giesen GRIZZLYS 2
URL:https://www.sf-aligse.de/event/volleyball-landespokal-damen-turnier-v-mit-sf-aligse-1-in-bad-salzdetfurth/
LOCATION:Schulzentrum Bad Salzdetfurth\, Birkenweg 38\, Bad Salzdetfurth\, Niedersachsen\, 31162\, Deutschland
CATEGORIES:Pokalspiele
ATTACH;FMTTYPE=image/jpeg:https://www.sf-aligse.de/wp-content/uploads/2018/02/Mikasa_200.jpg
END:VEVENT
END:VCALENDAR