BEGIN:VCALENDAR
VERSION:2.0
PRODID:-//Sportfreunde Aligse von 1930 e.V. - ECPv6.15.20//NONSGML v1.0//EN
CALSCALE:GREGORIAN
METHOD:PUBLISH
X-WR-CALNAME:Sportfreunde Aligse von 1930 e.V.
X-ORIGINAL-URL:https://www.sf-aligse.de
X-WR-CALDESC:Veranstaltungen für Sportfreunde Aligse von 1930 e.V.
REFRESH-INTERVAL;VALUE=DURATION:PT1H
X-Robots-Tag:noindex
X-PUBLISHED-TTL:PT1H
BEGIN:VTIMEZONE
TZID:Europe/Berlin
BEGIN:DAYLIGHT
TZOFFSETFROM:+0100
TZOFFSETTO:+0200
TZNAME:CEST
DTSTART:20240331T010000
END:DAYLIGHT
BEGIN:STANDARD
TZOFFSETFROM:+0200
TZOFFSETTO:+0100
TZNAME:CET
DTSTART:20241027T010000
END:STANDARD
BEGIN:DAYLIGHT
TZOFFSETFROM:+0100
TZOFFSETTO:+0200
TZNAME:CEST
DTSTART:20250330T010000
END:DAYLIGHT
BEGIN:STANDARD
TZOFFSETFROM:+0200
TZOFFSETTO:+0100
TZNAME:CET
DTSTART:20251026T010000
END:STANDARD
BEGIN:DAYLIGHT
TZOFFSETFROM:+0100
TZOFFSETTO:+0200
TZNAME:CEST
DTSTART:20260329T010000
END:DAYLIGHT
BEGIN:STANDARD
TZOFFSETFROM:+0200
TZOFFSETTO:+0100
TZNAME:CET
DTSTART:20261025T010000
END:STANDARD
END:VTIMEZONE
BEGIN:VEVENT
DTSTART;TZID=Europe/Berlin:20250921T100000
DTEND;TZID=Europe/Berlin:20250921T143000
DTSTAMP:20260422T092306
CREATED:20250901T224445Z
LAST-MODIFIED:20250921T124914Z
UID:16604-1758448800-1758465000@www.sf-aligse.de
SUMMARY:Voba: Regionsmeisterschaft U13 weibl.  - in Aligse -
DESCRIPTION:
URL:https://www.sf-aligse.de/event/voba-regionsmeisterschaft-u13-weibl-in-winsen-aller/
LOCATION:Grundschule Aligse\, Im Stegefeld 14\, Lehrte-Aligse\, 31275
CATEGORIES:Jugendmeisterschaft
END:VEVENT
BEGIN:VEVENT
DTSTART;TZID=Europe/Berlin:20250920T200000
DTEND;TZID=Europe/Berlin:20250920T220000
DTSTAMP:20260422T092306
CREATED:20250901T224756Z
LAST-MODIFIED:20250901T224756Z
UID:16606-1758398400-1758405600@www.sf-aligse.de
SUMMARY:Voba: 2. Bundesliga Nord Männer - America Unlimited Volleys Aligse  vs.  VV Humann Essen
DESCRIPTION:
URL:https://www.sf-aligse.de/event/voba-2-bundesliga-nord-maenner-america-unlimited-volleys-aligse-vs-vv-humann-essen-2/
LOCATION:SH Lehrte-Mitte (31275 Lehrte)\, Schlesische Straße 3\, Lehrte\, Niedersachsen\, 31275\, Deutschland
CATEGORIES:Spiele 1. Herren Volleyball
END:VEVENT
BEGIN:VEVENT
DTSTART;TZID=Europe/Berlin:20250920T150000
DTEND;TZID=Europe/Berlin:20250920T193000
DTSTAMP:20260422T092306
CREATED:20250901T231401Z
LAST-MODIFIED:20250901T231401Z
UID:16623-1758380400-1758396600@www.sf-aligse.de
SUMMARY:Voba: Bezirksklasse 2 (Hann.)\, Männer - TuS Bothfeld 3  vs.  SF Aligse 4
DESCRIPTION:
URL:https://www.sf-aligse.de/event/voba-bezirksklasse-2-hann-maenner-tus-bothfeld-3-vs-sf-aligse-4/
LOCATION:SH Mühlenweg\, Mühlenweg 2\, Hannover\, Niedersachsen\, 30629\, Deutschland
CATEGORIES:VolleyballSpiele Erwachsene (ohne Bu.-Liga/Dritte Liga)
END:VEVENT
BEGIN:VEVENT
DTSTART;TZID=Europe/Berlin:20250920T150000
DTEND;TZID=Europe/Berlin:20250920T193000
DTSTAMP:20260422T092306
CREATED:20250901T231114Z
LAST-MODIFIED:20250901T231114Z
UID:16621-1758380400-1758396600@www.sf-aligse.de
SUMMARY:Voba: Bezirksliga 3 (Hann.)\, Männer - SV Altencelle 2  vs.  SF Aligse 3
DESCRIPTION:
URL:https://www.sf-aligse.de/event/voba-bezirksliga-3-hann-maenner-sv-altencelle-2-vs-sf-aligse-3/
LOCATION:Sporthalle Altencelle\, Lückenweg\, Altencelle\, Niedersachsen\, 29227\, Deutschland
CATEGORIES:VolleyballSpiele Erwachsene (ohne Bu.-Liga/Dritte Liga)
END:VEVENT
BEGIN:VEVENT
DTSTART;TZID=Europe/Berlin:20250920T150000
DTEND;TZID=Europe/Berlin:20250920T193000
DTSTAMP:20260422T092306
CREATED:20250901T225418Z
LAST-MODIFIED:20250901T225419Z
UID:16610-1758380400-1758396600@www.sf-aligse.de
SUMMARY:Voba: Landesliga 5 Frauen - SC Hemmingen-Westerfeld  vs.  SF Aligse 2
DESCRIPTION:
URL:https://www.sf-aligse.de/event/voba-landesliga-5-frauen-sc-hemmingen-westerfeld-vs-sf-aligse-2/
LOCATION:SH Hohe Bünte\, Hohe Bünte 6\, Hemmingen\, Niedersachsen\, 30966\, Deutschland
CATEGORIES:VolleyballSpiele Erwachsene (ohne Bu.-Liga/Dritte Liga)
END:VEVENT
BEGIN:VEVENT
DTSTART;TZID=Europe/Berlin:20250920T150000
DTEND;TZID=Europe/Berlin:20250920T170000
DTSTAMP:20260422T092306
CREATED:20250901T225838Z
LAST-MODIFIED:20250920T150709Z
UID:16612-1758380400-1758387600@www.sf-aligse.de
SUMMARY:Voba: Bezirksklasse 5 (Hann.)\, Frauen - TuS Altwarmbüchen 2  vs.  SF Aligse 3
DESCRIPTION:
URL:https://www.sf-aligse.de/event/voba-bezirksklasse-5-hann-frauen-tus-altwarmbuechen-2-vs-sf-aligse-3/
LOCATION:Heinrich-Heller-Schule\, Jacobistr. 5\, Isernhagen\, Niedersachsen\, 30916\, Deutschland
CATEGORIES:VolleyballSpiele Erwachsene (ohne Bu.-Liga/Dritte Liga)
END:VEVENT
BEGIN:VEVENT
DTSTART;TZID=Europe/Berlin:20250920T150000
DTEND;TZID=Europe/Berlin:20250920T170000
DTSTAMP:20260422T092306
CREATED:20250901T225120Z
LAST-MODIFIED:20250920T150748Z
UID:16608-1758380400-1758387600@www.sf-aligse.de
SUMMARY:Voba: Verbandsliga 4 Frauen - TV Jahn Walsrode  vs.  SF Aligse 1
DESCRIPTION:
URL:https://www.sf-aligse.de/event/voba-verbandsliga-4-frauen-tv-jahn-walsrode-vs-sf-aligse-1/
LOCATION:SZ (Gymnasium) Walsrode\, Sunderstr.\, Walsrode\, Niedersachsen\, 29664\, Deutschland
CATEGORIES:Spiele 1. Damen Volleyball
END:VEVENT
BEGIN:VEVENT
DTSTART;TZID=Europe/Berlin:20250920T150000
DTEND;TZID=Europe/Berlin:20250920T163000
DTSTAMP:20260422T092306
CREATED:20250901T230108Z
LAST-MODIFIED:20250920T150621Z
UID:16614-1758380400-1758385800@www.sf-aligse.de
SUMMARY:Voba: Bezirksklasse 5 (Hann.)\, Frauen - SF Aligse 4  vs.  VfL Westercelle 2
DESCRIPTION:
URL:https://www.sf-aligse.de/event/voba-bezirksklasse-5-hann-frauen-sf-aligse-4-vs-vfl-westercelle-2-und-sv-hambuehren/
LOCATION:Grundschule Aligse\, Im Stegefeld 14\, Lehrte-Aligse\, 31275
CATEGORIES:VolleyballSpiele Erwachsene (ohne Bu.-Liga/Dritte Liga)
END:VEVENT
BEGIN:VEVENT
DTSTART;TZID=Europe/Berlin:20250914T100000
DTEND;TZID=Europe/Berlin:20250914T163000
DTSTAMP:20260422T092306
CREATED:20250901T223918Z
LAST-MODIFIED:20250901T223918Z
UID:16600-1757844000-1757867400@www.sf-aligse.de
SUMMARY:Voba: Regionsmeisterschaft U18 weibl.  - in Hannover -
DESCRIPTION:
URL:https://www.sf-aligse.de/event/voba-regionsmeisterschaft-u18-weibl-in-hannover/
LOCATION:Freie Waldorfschule Hannover (Neue Halle)\, Rudolf-von-Bennigsen-Ufer 70\, Hannover\, 30173\, Deutschland
CATEGORIES:Jugendmeisterschaft
END:VEVENT
BEGIN:VEVENT
DTSTART;TZID=Europe/Berlin:20250914T100000
DTEND;TZID=Europe/Berlin:20250914T163000
DTSTAMP:20260422T092306
CREATED:20250901T223642Z
LAST-MODIFIED:20250901T223642Z
UID:16598-1757844000-1757867400@www.sf-aligse.de
SUMMARY:Voba: Regionsmeisterschaft U14 männl. - in Nienhagen -
DESCRIPTION:
URL:https://www.sf-aligse.de/event/voba-regionsmeisterschaft-u14-maennl-in-nienhagen/
LOCATION:SH Schule im Allertal (Oberschule)\, Im Allertal\, Winsen (Aller)\, Niedersachsen\, 29308\, Deutschland
CATEGORIES:Jugendmeisterschaft
END:VEVENT
BEGIN:VEVENT
DTSTART;TZID=Europe/Berlin:20250914T100000
DTEND;TZID=Europe/Berlin:20250914T163000
DTSTAMP:20260422T092306
CREATED:20250901T223407Z
LAST-MODIFIED:20250914T133104Z
UID:16596-1757844000-1757867400@www.sf-aligse.de
SUMMARY:Voba: Regionsmeisterschaft U14 weibl. - in Winsen (Aller) -
DESCRIPTION:
URL:https://www.sf-aligse.de/event/voba-regionsmeisterschaft-u14-weibl-in-nienhagen/
LOCATION:Sporthalle Allertal\, Im Allertal\, Winsen (Aller)\, Niedersachsen\, 29308\, Germany
CATEGORIES:Jugendmeisterschaft
END:VEVENT
BEGIN:VEVENT
DTSTART;TZID=Europe/Berlin:20250914T100000
DTEND;TZID=Europe/Berlin:20250914T150000
DTSTAMP:20260422T092306
CREATED:20250901T224110Z
LAST-MODIFIED:20250901T224110Z
UID:16602-1757844000-1757862000@www.sf-aligse.de
SUMMARY:Voba: Regionsmeisterschaft U18 männl.  - in Aligse -
DESCRIPTION:
URL:https://www.sf-aligse.de/event/voba-regionsmeisterschaft-u18-maennl-in-aligse/
LOCATION:Grundschule Aligse\, Im Stegefeld 14\, Lehrte-Aligse\, 31275
CATEGORIES:Jugendmeisterschaft
END:VEVENT
BEGIN:VEVENT
DTSTART;TZID=Europe/Berlin:20250913T193000
DTEND;TZID=Europe/Berlin:20250913T213000
DTSTAMP:20260422T092306
CREATED:20250901T230850Z
LAST-MODIFIED:20250901T230850Z
UID:16592-1757791800-1757799000@www.sf-aligse.de
SUMMARY:Voba: 2. Bundesliga Nord Männer - Moerser SC  vs.  America Unlimited Volleys Aligse
DESCRIPTION:
URL:https://www.sf-aligse.de/event/voba-2-bundesliga-nord-maenner-moerser-sc-vs-america-unlimited-volleys-aligse/
LOCATION:ENNI Sportpark Rheinkamp\, Am Sportzentrum\, Moers\, Nordrhein-Westfalen\, 47445\, Germany
CATEGORIES:Spiele 1. Herren Volleyball
END:VEVENT
BEGIN:VEVENT
DTSTART;TZID=Europe/Berlin:20250907T100000
DTEND;TZID=Europe/Berlin:20250907T163000
DTSTAMP:20260422T092306
CREATED:20250901T221411Z
LAST-MODIFIED:20250902T134426Z
UID:16586-1757239200-1757262600@www.sf-aligse.de
SUMMARY:Voba: Regionsmeisterschaft U20 weibl. - in Barsinghausen -
DESCRIPTION:
URL:https://www.sf-aligse.de/event/voba-regionsmeisterschaft-u20-weibl-in-laatzen/
LOCATION:Sporthalle Am Spalterhals 15\, Am Spalterhals 15\, Barsinghausen\, Niedersachsen\, 30890\, Deutschland
CATEGORIES:Jugendmeisterschaft
END:VEVENT
BEGIN:VEVENT
DTSTART;TZID=Europe/Berlin:20250907T100000
DTEND;TZID=Europe/Berlin:20250907T160000
DTSTAMP:20260422T092306
CREATED:20250901T221840Z
LAST-MODIFIED:20250901T221840Z
UID:16588-1757239200-1757260800@www.sf-aligse.de
SUMMARY:Voba: Regionsmeisterschaft U20 männl. - in Burgdorf -
DESCRIPTION:
URL:https://www.sf-aligse.de/event/voba-regionsmeisterschaft-u20-maennl-in-burgdorf/
LOCATION:RBG Burgdorf\, Vor dem Celler Tor 50\, Burgdorf\, Niedersachsen\, 31303\, Germany
CATEGORIES:Jugendmeisterschaft
END:VEVENT
BEGIN:VEVENT
DTSTART;TZID=Europe/Berlin:20250907T100000
DTEND;TZID=Europe/Berlin:20250907T160000
DTSTAMP:20260422T092306
CREATED:20250901T221113Z
LAST-MODIFIED:20250901T221944Z
UID:16584-1757239200-1757260800@www.sf-aligse.de
SUMMARY:Voba: Regionsmeisterschaft U16 weibl. - in Hannover -
DESCRIPTION:
URL:https://www.sf-aligse.de/event/voba-regionsmeisterschaft-u16-weibl-in-hannover/
LOCATION:Freie Waldorfschule Hannover (Neue Halle)\, Rudolf-von-Bennigsen-Ufer 70\, Hannover\, 30173\, Deutschland
CATEGORIES:Jugendmeisterschaft
END:VEVENT
BEGIN:VEVENT
DTSTART;TZID=Europe/Berlin:20250511T090000
DTEND;TZID=Europe/Berlin:20250511T160000
DTSTAMP:20260422T092306
CREATED:20250418T143141Z
LAST-MODIFIED:20250418T143714Z
UID:16443-1746954000-1746979200@www.sf-aligse.de
SUMMARY:Voba -Nordwestdeutsche Meisterschaften (NWDM) U12 weibl. – Tag 2 (Zwischenrunde\, Platzierungsspiele\, Finale) – in Bad Pyrmont -
DESCRIPTION:Qualifiziert sind folgende Vereine: FC Leschede\, GfL Hannover\, MTV Bad Pyrmont\, SCU Emlichheim\, SF Aligse\, SV Bad Laer\, SV Union Lohne\, SV Wietmarschen\, SVC Belm-Powe\, TV Eiche Horn\, TuS Bersenbrück und USC Braunschweig \nDie Gruppenphase wird in 4 Gruppen (A\, B\, C\, D) á 3 Mannschaften gespielt\, das SFA-Team spielt zusammen mit dem USC Braunschweig und dem FC Leschede in der Gruppe A. \nDie beiden Erstplatzierten der Gruppen spielen anschließend in 2 Gruppen (Z1 und Z2) á 4 Mannschaften die Zwischenrunde. In jeder Gruppe sind zwei Gruppensieger und zwei Zweitplatzierte. Die vier Drittplatzierten bilden eine eigene Vierergruppe und spielen um die Plätze 9 – 12. \nDie beiden Viertplatzierten der Zwischenrundengruppen spielen dann gegeneinander um Platz 7\, die beiden Drittplatzierten um den 5. Platz. \nDie beiden Erstplatzierten der Zwischenrundengruppen spielen einen Überkreuzvergleich (1.  Z1 : 2.  Z2 und 2.  Z1 : 1. Z2). Die Verlierer der Überkreuzvergleiche spielen das kleine Finale um den 3. Platz\, während die Sieger das Finale  um den Titel des Nordwestdeutschen Meisters spielen. Deutsche Meisterschaften werden in dieser Altersklasse nicht ausgespielt.
URL:https://www.sf-aligse.de/event/voba-nordwestdeutsche-meisterschaften-nwdm-u12-weibl-tag-2-zwischenrunde-platzierungsspiele-finale-in-bad-pyrmont/
LOCATION:Sporthalle Südstraße Bad Pyrmont\, Südstraße\, Bad Pyrmont\, Niedersachsen\, 31812\, Germany
CATEGORIES:Jugendmeisterschaft
END:VEVENT
BEGIN:VEVENT
DTSTART;TZID=Europe/Berlin:20250510T110000
DTEND;TZID=Europe/Berlin:20250510T190000
DTSTAMP:20260422T092306
CREATED:20250418T142720Z
LAST-MODIFIED:20250418T143818Z
UID:16438-1746874800-1746903600@www.sf-aligse.de
SUMMARY:Voba - Nordwestdeutsche Meisterschaften (NWDM) U12 weibl. – Tag 1 (Gruppenphase u. erste Spiele Zwischenrunde) – in Bad Pyrmont -
DESCRIPTION:Qualifiziert sind folgende Vereine: FC Leschede\, GfL Hannover\, MTV Bad Pyrmont\, SCU Emlichheim\, SF Aligse\, SV Bad Laer\, SV Union Lohne\, SV Wietmarschen\, SVC Belm-Powe\, TV Eiche Horn\, TuS Bersenbrück und USC Braunschweig \nDie Gruppenphase wird in 4 Gruppen (A\, B\, C\, D) á 3 Mannschaften gespielt\, das SFA-Team spielt zusammen mit dem USC Braunschweig und dem FC Leschede in der Gruppe A. \nDie beiden Erstplatzierten der Gruppen spielen anschließend in 2 Gruppen (Z1 und Z2) á 4 Mannschaften die Zwischenrunde. In jeder Gruppe sind zwei Gruppensieger und zwei Zweitplatzierte. Die vier Drittplatzierten bilden eine eigene Vierergruppe und spielen um die Plätze 9 – 12. \nDie beiden Viertplatzierten der Zwischenrundengruppen spielen dann gegeneinander um Platz 7\, die beiden Drittplatzierten um den 5. Platz. \nDie beiden Erstplatzierten der Zwischenrundengruppen spielen einen Überkreuzvergleich (1.  Z1 : 2.  Z2 und 2.  Z1 : 1. Z2). Die Verlierer der Überkreuzvergleiche spielen das kleine Finale um den 3. Platz\, während die Sieger das Finale  um den Titel des Nordwestdeutschen Meisters spielen. Deutsche Meisterschaften werden in dieser Altersklasse nicht ausgespielt.
URL:https://www.sf-aligse.de/event/voba-voba-nordwestdeutsche-meisterschaften-nwdm-u12-weibl-tag-1-gruppenphase-u-erste-spiele-zwischenrunde-in-bad-pyrmont/
LOCATION:Sporthalle Südstraße Bad Pyrmont\, Südstraße\, Bad Pyrmont\, Niedersachsen\, 31812\, Germany
CATEGORIES:Jugendmeisterschaft
END:VEVENT
BEGIN:VEVENT
DTSTART;TZID=Europe/Berlin:20250504T100000
DTEND;TZID=Europe/Berlin:20250504T140000
DTSTAMP:20260422T092306
CREATED:20250418T141343Z
LAST-MODIFIED:20250418T141343Z
UID:16436-1746352800-1746367200@www.sf-aligse.de
SUMMARY:Voba - Regionsliga Hannover U18 w Endrunde I: SFA vs. SG Letter 05 und GfL Hannover I - Letzter Spieltag (Saisonfinale) in Seelze -
DESCRIPTION:
URL:https://www.sf-aligse.de/event/voba-regionsliga-hannover-u18-w-endrunde-i-sfa-vs-sg-letter-05-und-gfl-hannover-i-letzter-spieltag-saisonfinale-in-seelze/
LOCATION:Georg-Büchner-Gymnasium\, Ludwig-Jahn-Straße\, Seelze (OT Letter)\, Niedersachsen\, 30926
CATEGORIES:Spiele Jugendligen
END:VEVENT
BEGIN:VEVENT
DTSTART;TZID=Europe/Berlin:20250504T100000
DTEND;TZID=Europe/Berlin:20250504T140000
DTSTAMP:20260422T092306
CREATED:20250418T140449Z
LAST-MODIFIED:20250418T140449Z
UID:16434-1746352800-1746367200@www.sf-aligse.de
SUMMARY:Voba - Regionsliga Hannover U14 m I: SFA vs. TB Stöcken II\, GfL Hannover I und TuS Wunstorf - Letzter Spieltag (Saisonfinale) in Wunstorf -
DESCRIPTION:
URL:https://www.sf-aligse.de/event/voba-regionsliga-hannover-u14-m-i-sfa-vs-tb-stoecken-ii-gfl-hannover-i-und-tus-wunstorf-letzter-spieltag-saisonfinale-in-wunstorf/
LOCATION:SH Hölty I\, Klosterweg\, Wunstorf\, Niedersachsen\, 31515
CATEGORIES:Spiele Jugendligen
END:VEVENT
BEGIN:VEVENT
DTSTART;TZID=Europe/Berlin:20250504T100000
DTEND;TZID=Europe/Berlin:20250504T140000
DTSTAMP:20260422T092306
CREATED:20250418T135822Z
LAST-MODIFIED:20250418T135822Z
UID:16432-1746352800-1746367200@www.sf-aligse.de
SUMMARY:Voba - Regionsliga Hannover U12 mixed I: SFA vs. SSV Südwinsen I\, GfL Hannover I und II - Letzter Spieltag (Saisonfinale) in Nienhagen -
DESCRIPTION:
URL:https://www.sf-aligse.de/event/voba-regionsliga-hannover-u12-mixed-i-sfa-vs-ssv-suedwinsen-i-gfl-hannover-i-und-ii-letzter-spieltag-saisonfinale-in-nienhagen/
LOCATION:SH am Europabad\, Jahnring 19\, Nienhagen\, Niedersachsen\, 29336\, Deutschland
CATEGORIES:Spiele Jugendligen
END:VEVENT
BEGIN:VEVENT
DTSTART;TZID=Europe/Berlin:20250427T090000
DTEND;TZID=Europe/Berlin:20250427T163000
DTSTAMP:20260422T092306
CREATED:20250416T205144Z
LAST-MODIFIED:20250416T205333Z
UID:16418-1745744400-1745771400@www.sf-aligse.de
SUMMARY:Voba - Nordwestdeutsche Meisterschaften (NWDM) U13 männl. - Tag 2 (Zwischenrunde\, Platzierungsspiele\, Finale) - in Lüneburg
DESCRIPTION:Qualifiziert sind folgende Vereine: ASC 46 Göttingen\, FC Schüttorf 09\, Oldenburger TB\, SF Aligse\, SV Nienhagen\, SVG Lüneburg\, TSV Giesen GRIZZLYS\, TSV Winsen/Luhe\, TV Jahn Wolfsburg\, TV Schledehausen\, Tecklenburger Land Volleys und USC Braunschweig \nDie Gruppenphase wird in 4 Gruppen (A\, B\, C\, D) á 3 Mannschaften gespielt\, das SFA-Team spielt zusammen mit dem USC Braunschweig und dem TV Schledehausen in der Gruppe B. \nDie beiden Erstplatzierten der Gruppen spielen anschließend in 2 Gruppen (Z1 und Z2) á 4 Mannschaften die Zwischenrunde. In jeder Gruppe sind zwei Gruppensieger und zwei Zweitplatzierte. Die vier Drittplatzierten bilden eine eigene Vierergruppe und spielen um die Plätze 9 – 12. \nDie beiden Viertplatzierten der Zwischenrundengruppen spielen dann gegeneinander um Platz 7\, die beiden Drittplatzierten um den 5. Platz. \nDie beiden Erstplatzierten der Zwischenrundengruppen spielen einen Überkreuzvergleich (1.  Z1 : 2.  Z2 und 2.  Z1 : 1. Z2). Die Verlierer der Überkreuzvergleiche spielen das kleine Finale um den 3. Platz\, während die Sieger das Finale  um den Titel des Nordwestdeutschen Meisters spielen. Deutsche Meisterschaften werden in dieser Altersklasse nicht ausgespielt.
URL:https://www.sf-aligse.de/event/voba-nordwestdeutsche-meisterschaften-nwdm-u13-maennl-tag-2-zwischenrunde-platzierungsspiele-finale-in-lueneburg/
LOCATION:Sporthalle Kaltenmoor I\, Theodor-Heuss-Str. 28\, Lüneburg\, Niedersachsen\, 21337
CATEGORIES:Jugendmeisterschaft
END:VEVENT
BEGIN:VEVENT
DTSTART;TZID=Europe/Berlin:20250426T190000
DTEND;TZID=Europe/Berlin:20250426T213000
DTSTAMP:20260422T092306
CREATED:20250416T202147Z
LAST-MODIFIED:20250416T202147Z
UID:16414-1745694000-1745703000@www.sf-aligse.de
SUMMARY:Voba - 2. Bundesliga Nord Männer: America Unlimited Volleys Aligse  vs.  TuB Bocholt
DESCRIPTION:
URL:https://www.sf-aligse.de/event/voba-2-bundesliga-nord-maenner-america-unlimited-volleys-aligse-vs-tub-bocholt/
LOCATION:SH Lehrte-Mitte (31275 Lehrte)\, Schlesische Straße 3\, Lehrte\, Niedersachsen\, 31275\, Deutschland
CATEGORIES:Spiele 1. Herren Volleyball
END:VEVENT
BEGIN:VEVENT
DTSTART;TZID=Europe/Berlin:20250426T110000
DTEND;TZID=Europe/Berlin:20250426T190000
DTSTAMP:20260422T092307
CREATED:20250416T204810Z
LAST-MODIFIED:20250416T204810Z
UID:16416-1745665200-1745694000@www.sf-aligse.de
SUMMARY:Voba - Nordwestdeutsche Meisterschaften (NWDM) U13 männl. - Tag 1 (Gruppenphase u. erste Spiele Zwischenrunde) - in Lüneburg
DESCRIPTION:Qualifiziert sind folgende Vereine: ASC 46 Göttingen\, FC Schüttorf 09\, Oldenburger TB\, SF Aligse\, SV Nienhagen\, SVG Lüneburg\, TSV Giesen GRIZZLYS\, TSV Winsen/Luhe\, TV Jahn Wolfsburg\, TV Schledehausen\, Tecklenburger Land Volleys und USC Braunschweig \nDie Gruppenphase wird in 4 Gruppen (A\, B\, C\, D) á 3 Mannschaften gespielt\, das SFA-Team spielt zusammen mit dem USC Braunschweig und dem TV Schledehausen in der Gruppe B. \nDie beiden Erstplatzierten der Gruppen spielen anschließend in 2 Gruppen (Z1 und Z2) á 4 Mannschaften die Zwischenrunde. In jeder Gruppe sind zwei Gruppensieger und zwei Zweitplatzierte. Die vier Drittplatzierten bilden eine eigene Vierergruppe und spielen um die Plätze 9 – 12. \nDie beiden Viertplatzierten der Zwischenrundengruppen spielen dann gegeneinander um Platz 7\, die beiden Drittplatzierten um den 5. Platz. \nDie beiden Erstplatzierten der Zwischenrundengruppen spielen einen Überkreuzvergleich (1.  Z1 : 2.  Z2 und 2.  Z1 : 1. Z2). Die Verlierer der Überkreuzvergleiche spielen das kleine Finale um den 3. Platz\, während die Sieger das Finale  um den Titel des Nordwestdeutschen Meisters spielen. Deutsche Meisterschaften werden in dieser Altersklasse nicht ausgespielt. \n 
URL:https://www.sf-aligse.de/event/voba-nordwestdeutsche-meisterschaften-nwdm-u13-maennl-tag-1-gruppenphase-u-erste-spiele-zwischenrunde-in-lueneburg/
LOCATION:Sporthalle Kaltenmoor I\, Theodor-Heuss-Str. 28\, Lüneburg\, Niedersachsen\, 21337
CATEGORIES:Jugendmeisterschaft
END:VEVENT
BEGIN:VEVENT
DTSTART;TZID=Europe/Berlin:20250412T190000
DTEND;TZID=Europe/Berlin:20250412T210000
DTSTAMP:20260422T092307
CREATED:20250407T223701Z
LAST-MODIFIED:20250407T223701Z
UID:16388-1744484400-1744491600@www.sf-aligse.de
SUMMARY:Voba - 2. Bundesliga Nord Männer: Dessau Volleys  -  America Unlimited Volleys Aligse
DESCRIPTION:
URL:https://www.sf-aligse.de/event/voba-2-bundesliga-nord-maenner-dessau-volleys-america-unlimited-volleys-aligse/
LOCATION:Friedensschule\, Elballee 87\, Dessau-Roßlau\, Sachsen-Anhalt\, 06846\, Germany
CATEGORIES:Spiele 1. Herren Volleyball
END:VEVENT
BEGIN:VEVENT
DTSTART;TZID=Europe/Berlin:20250405T200000
DTEND;TZID=Europe/Berlin:20250405T220000
DTSTAMP:20260422T092307
CREATED:20250330T183746Z
LAST-MODIFIED:20250330T183746Z
UID:16360-1743883200-1743890400@www.sf-aligse.de
SUMMARY:Voba - 2. Bundesliga Nord Männer: America Unlimited Volleys Aligse  vs.  PSV Neustrelitz
DESCRIPTION:
URL:https://www.sf-aligse.de/event/voba-2-bundesliga-nord-maenner-america-unlimited-volleys-aligse-vs-psv-neustrelitz/
LOCATION:SH Lehrte-Mitte (31275 Lehrte)\, Schlesische Straße 3\, Lehrte\, Niedersachsen\, 31275\, Deutschland
CATEGORIES:Spiele 1. Herren Volleyball
END:VEVENT
BEGIN:VEVENT
DTSTART;TZID=Europe/Berlin:20250330T100000
DTEND;TZID=Europe/Berlin:20250330T140000
DTSTAMP:20260422T092307
CREATED:20250319T143210Z
LAST-MODIFIED:20250319T143210Z
UID:16340-1743328800-1743343200@www.sf-aligse.de
SUMMARY:Voba - Regionsliga Hannover U13 Mixed I - mit SF Aligse 1 und 2 - Saisonfinale in Winsen (Aller)
DESCRIPTION:SF Aligse 1 spielt gegen SV Nienhagen 1 und SV Nienhagen 2 \nSF Aligse 2 spielt gegen TK Hannover\, TSV Krähenwinkel/Kaltenweide  und SSV Südwinsen 1
URL:https://www.sf-aligse.de/event/voba-regionsliga-hannover-u13-mixed-i-mit-sf-aligse-1-und-2-saisonfinale-in-winsen-aller/
LOCATION:Sporthalle Allertal\, Im Allertal\, Winsen (Aller)\, Niedersachsen\, 29308\, Germany
CATEGORIES:Spiele Jugendligen
END:VEVENT
BEGIN:VEVENT
DTSTART;TZID=Europe/Berlin:20250329T200000
DTEND;TZID=Europe/Berlin:20250329T220000
DTSTAMP:20260422T092307
CREATED:20250319T142001Z
LAST-MODIFIED:20250319T142001Z
UID:16338-1743278400-1743285600@www.sf-aligse.de
SUMMARY:Voba - 2. Bundesliga Nord Männer: America Unlimited Volleys Aligse  vs.  TSV Giesen GRIZZLYS 2
DESCRIPTION:
URL:https://www.sf-aligse.de/event/voba-2-bundesliga-nord-maenner-america-unlimited-volleys-aligse-vs-tsv-giesen-grizzlys-2/
LOCATION:SH Lehrte-Mitte (31275 Lehrte)\, Schlesische Straße 3\, Lehrte\, Niedersachsen\, 31275\, Deutschland
CATEGORIES:Spiele 1. Herren Volleyball
END:VEVENT
BEGIN:VEVENT
DTSTART;TZID=Europe/Berlin:20250316T110000
DTEND;TZID=Europe/Berlin:20250316T153000
DTSTAMP:20260422T092307
CREATED:20250312T142905Z
LAST-MODIFIED:20250312T142905Z
UID:16285-1742122800-1742139000@www.sf-aligse.de
SUMMARY:Voba - Bezirksklasse 2 RegV Hannover (Männer): TuS Vahrenwald II  vs.  SF Aligse 4
DESCRIPTION:
URL:https://www.sf-aligse.de/event/voba-bezirksklasse-2-regv-hannover-maenner-tus-vahrenwald-ii-vs-sf-aligse-4/
LOCATION:GS an der Feldbuschwende\, Oheriedentrift 11\, Hannover\, Niedersachsen\, 30539\, Deutschland
CATEGORIES:VolleyballSpiele Erwachsene (ohne Bu.-Liga/Dritte Liga)
END:VEVENT
BEGIN:VEVENT
DTSTART;TZID=Europe/Berlin:20250316T100000
DTEND;TZID=Europe/Berlin:20250316T140000
DTSTAMP:20260422T092307
CREATED:20250312T150925Z
LAST-MODIFIED:20250312T150925Z
UID:16301-1742119200-1742133600@www.sf-aligse.de
SUMMARY:Voba - Regionsliga Hannover U18w Endrunde I: SF Aligse  vs. TuS Bothfeld 04 Damen III\, TSV Egestorf  +  GfL Hannover I     - in Hannover -
DESCRIPTION:
URL:https://www.sf-aligse.de/event/voba-regionsliga-hannover-u18w-endrunde-i-sf-aligse-vs-tus-bothfeld-04-damen-iii-tsv-egestorf-gfl-hannover-i-in-hannover/
LOCATION:SH Mühlenweg\, Mühlenweg 2\, Hannover\, Niedersachsen\, 30629\, Deutschland
CATEGORIES:Spiele Jugendligen
END:VEVENT
END:VCALENDAR