BEGIN:VCALENDAR
VERSION:2.0
PRODID:-//Sportfreunde Aligse von 1930 e.V. - ECPv6.15.20//NONSGML v1.0//EN
CALSCALE:GREGORIAN
METHOD:PUBLISH
X-ORIGINAL-URL:https://www.sf-aligse.de
X-WR-CALDESC:Veranstaltungen für Sportfreunde Aligse von 1930 e.V.
REFRESH-INTERVAL;VALUE=DURATION:PT1H
X-Robots-Tag:noindex
X-PUBLISHED-TTL:PT1H
BEGIN:VTIMEZONE
TZID:Europe/Berlin
BEGIN:DAYLIGHT
TZOFFSETFROM:+0100
TZOFFSETTO:+0200
TZNAME:CEST
DTSTART:20250330T010000
END:DAYLIGHT
BEGIN:STANDARD
TZOFFSETFROM:+0200
TZOFFSETTO:+0100
TZNAME:CET
DTSTART:20251026T010000
END:STANDARD
BEGIN:DAYLIGHT
TZOFFSETFROM:+0100
TZOFFSETTO:+0200
TZNAME:CEST
DTSTART:20260329T010000
END:DAYLIGHT
BEGIN:STANDARD
TZOFFSETFROM:+0200
TZOFFSETTO:+0100
TZNAME:CET
DTSTART:20261025T010000
END:STANDARD
BEGIN:DAYLIGHT
TZOFFSETFROM:+0100
TZOFFSETTO:+0200
TZNAME:CEST
DTSTART:20270328T010000
END:DAYLIGHT
BEGIN:STANDARD
TZOFFSETFROM:+0200
TZOFFSETTO:+0100
TZNAME:CET
DTSTART:20271031T010000
END:STANDARD
END:VTIMEZONE
BEGIN:VEVENT
DTSTART;TZID=Europe/Berlin:20260321T190000
DTEND;TZID=Europe/Berlin:20260321T213000
DTSTAMP:20260421T124535
CREATED:20260305T142623Z
LAST-MODIFIED:20260305T142623Z
UID:17626-1774119600-1774128600@www.sf-aligse.de
SUMMARY:Voba: 2. Bundesliga Nord Männer  -  Kieler TV  vs.  America Unlimited Volleys Aligse
DESCRIPTION:
URL:https://www.sf-aligse.de/event/voba-2-bundesliga-nord-maenner-kieler-tv-vs-america-unlimited-volleys-aligse/
LOCATION:Hein-Dahlinger-Halle\, Geschwister-Scholl-Straße 15\, Kiel\, Schleswig-Holstein\, 24143\, Germany
CATEGORIES:Spiele 1. Herren Volleyball
END:VEVENT
BEGIN:VEVENT
DTSTART;TZID=Europe/Berlin:20260316T200000
DTEND;TZID=Europe/Berlin:20260316T220000
DTSTAMP:20260421T124535
CREATED:20260305T140833Z
LAST-MODIFIED:20260305T140833Z
UID:17620-1773691200-1773698400@www.sf-aligse.de
SUMMARY:Voba: Regions-Liga (FS) Männer D  -  Lehrter SV 2  vs.  SF Aligse Hobbies 2
DESCRIPTION:
URL:https://www.sf-aligse.de/event/voba-regions-liga-fs-maenner-d-lehrter-sv-2-vs-sf-aligse-hobbies-2/
LOCATION:Sporthalle Schulpark Lehrte-Süd (Vierfeldhalle)\, Südring 28\, Lehrte\, 31275
CATEGORIES:Spiele FS-Ligen (Hobby)
END:VEVENT
BEGIN:VEVENT
DTSTART;TZID=Europe/Berlin:20260315T100000
DTEND;TZID=Europe/Berlin:20260315T140000
DTSTAMP:20260421T124535
CREATED:20260305T141432Z
LAST-MODIFIED:20260305T141432Z
UID:17622-1773568800-1773583200@www.sf-aligse.de
SUMMARY:Voba: Regionsliga Hannover U14m Endrunde I (Spieltag 2\,in Aligse)  -  SF Aligse 1 und 2  vs.  SV Nienhagen\, GfL Hannover und TK Hannover
DESCRIPTION:
URL:https://www.sf-aligse.de/event/voba-regionsliga-hannover-u14m-endrunde-i-spieltag-2in-aligse-sf-aligse-1-und-2-vs-sv-nienhagen-gfl-hannover-und-tk-hannover/
LOCATION:Grundschule Aligse\, Im Stegefeld 14\, Lehrte-Aligse\, 31275
CATEGORIES:Spiele Jugendligen
END:VEVENT
BEGIN:VEVENT
DTSTART;TZID=Europe/Berlin:20260314T190000
DTEND;TZID=Europe/Berlin:20260314T213000
DTSTAMP:20260421T124535
CREATED:20260305T142410Z
LAST-MODIFIED:20260305T142410Z
UID:17624-1773514800-1773523800@www.sf-aligse.de
SUMMARY:Voba: 2. Bundesliga Nord Männer  -  Münster Volleys  vs.  America Unlimited Volleys Aligse
DESCRIPTION:
URL:https://www.sf-aligse.de/event/voba-2-bundesliga-nord-maenner-muenster-volleys-vs-america-unlimited-volleys-aligse-3/
LOCATION:Universitätssporthalle Münster\, Horstmarer Landweg 51\, Münster\, Nordrhein-Westfalen\, 48149\, Germany
CATEGORIES:Spiele 1. Herren Volleyball
END:VEVENT
BEGIN:VEVENT
DTSTART;TZID=Europe/Berlin:20260308T160000
DTEND;TZID=Europe/Berlin:20260308T183000
DTSTAMP:20260421T124535
CREATED:20260301T203341Z
LAST-MODIFIED:20260301T203341Z
UID:17617-1772985600-1772994600@www.sf-aligse.de
SUMMARY:Voba: 2. Bundesliga Nord Männer  -  TSV Giesen GRIZZLYS 2  vs.  America Unlimited Volleys Aligse
DESCRIPTION:
URL:https://www.sf-aligse.de/event/voba-2-bundesliga-nord-maenner-tsv-giesen-grizzlys-2-vs-america-unlimited-volleys-aligse/
LOCATION:Schacht-Arena\, Emmerker Straße 6\, Giesen\, Niedersachsen\, 31180\, Germany
CATEGORIES:Spiele 1. Herren Volleyball
END:VEVENT
BEGIN:VEVENT
DTSTART;TZID=Europe/Berlin:20260308T110000
DTEND;TZID=Europe/Berlin:20260308T153000
DTSTAMP:20260421T124535
CREATED:20260301T202603Z
LAST-MODIFIED:20260301T202603Z
UID:17613-1772967600-1772983800@www.sf-aligse.de
SUMMARY:Voba: Kreisliga 4 RegV Hannover (Frauen)  -  SF Aligse 5  vs.  TSV Clauen/Soßmar  und  MTV SG Borsum Harsum Achtum 3
DESCRIPTION:
URL:https://www.sf-aligse.de/event/voba-kreisliga-4-regv-hannover-frauen-sf-aligse-5-vs-tsv-clauen-sossmar-und-mtv-sg-borsum-harsum-achtum-3/
LOCATION:Grundschule Aligse\, Im Stegefeld 14\, Lehrte-Aligse\, 31275
CATEGORIES:VolleyballSpiele Erwachsene (ohne Bu.-Liga/Dritte Liga)
END:VEVENT
BEGIN:VEVENT
DTSTART;TZID=Europe/Berlin:20260307T150000
DTEND;TZID=Europe/Berlin:20260307T190000
DTSTAMP:20260421T124535
CREATED:20260301T202054Z
LAST-MODIFIED:20260301T202054Z
UID:17611-1772895600-1772910000@www.sf-aligse.de
SUMMARY:Voba: Bezirksliga 3 RegV Hannover (Männer)  -  SF Aligse 3  vs.  TuS Lachendorf 2  und  Grasdorf/Rethen Volleys 3
DESCRIPTION:
URL:https://www.sf-aligse.de/event/voba-bezirksliga-3-regv-hannover-maenner-sf-aligse-3-vs-tus-lachendorf-2-und-grasdorf-rethen-volleys-3/
LOCATION:Grundschule Aligse\, Im Stegefeld 14\, Lehrte-Aligse\, 31275
CATEGORIES:VolleyballSpiele Erwachsene (ohne Bu.-Liga/Dritte Liga)
END:VEVENT
BEGIN:VEVENT
DTSTART;TZID=Europe/Berlin:20260307T130000
DTEND;TZID=Europe/Berlin:20260307T170000
DTSTAMP:20260421T124535
CREATED:20260301T202948Z
LAST-MODIFIED:20260301T202948Z
UID:17615-1772888400-1772902800@www.sf-aligse.de
SUMMARY:Voba: Verbandsliga 4 (Frauen  -  GfL Hannover 2  vs.  SF Aligse 1
DESCRIPTION:
URL:https://www.sf-aligse.de/event/voba-verbandsliga-4-frauen-gfl-hannover-2-vs-sf-aligse-1/
LOCATION:Freie Waldorfschule Hannover (Neue Halle)\, Rudolf-von-Bennigsen-Ufer 70\, Hannover\, 30173\, Deutschland
CATEGORIES:Spiele 1. Damen Volleyball
END:VEVENT
BEGIN:VEVENT
DTSTART;TZID=Europe/Berlin:20260305T200000
DTEND;TZID=Europe/Berlin:20260305T220000
DTSTAMP:20260421T124535
CREATED:20260301T201300Z
LAST-MODIFIED:20260301T201300Z
UID:17609-1772740800-1772748000@www.sf-aligse.de
SUMMARY:Voba: Regions-Liga (FS)\, Mixed L  -  GfL Hannover 2  vs. SF Aligse Hobbies 1
DESCRIPTION:
URL:https://www.sf-aligse.de/event/voba-regions-liga-fs-mixed-l-gfl-hannover-2-vs-sf-aligse-hobbies-1-2/
LOCATION:Freie Waldorfschule Hannover (Neue Halle)\, Rudolf-von-Bennigsen-Ufer 70\, Hannover\, 30173\, Deutschland
CATEGORIES:Spiele FS-Ligen (Hobby)
END:VEVENT
BEGIN:VEVENT
DTSTART;TZID=Europe/Berlin:20260301T160000
DTEND;TZID=Europe/Berlin:20260301T183000
DTSTAMP:20260421T124535
CREATED:20260222T131153Z
LAST-MODIFIED:20260222T131153Z
UID:17570-1772380800-1772389800@www.sf-aligse.de
SUMMARY:Voba: 2. Bundesliga Nord Männer  -  VV Humann Essen  vs.  America Unlimited Volleys Aligse
DESCRIPTION:
URL:https://www.sf-aligse.de/event/voba-2-bundesliga-nord-maenner-vv-humann-essen-vs-america-unlimited-volleys-aligse-2/
LOCATION:SH Gymnasium Wolfskuhle\, Pinxtenweg 6\, Essen\, Nordrhein-Westfalen\, 45276\, Deutschland
CATEGORIES:Spiele 1. Herren Volleyball
END:VEVENT
BEGIN:VEVENT
DTSTART;TZID=Europe/Berlin:20260228T150000
DTEND;TZID=Europe/Berlin:20260228T190000
DTSTAMP:20260421T124535
CREATED:20260222T130621Z
LAST-MODIFIED:20260222T130621Z
UID:17568-1772290800-1772305200@www.sf-aligse.de
SUMMARY:Voba: Landesliga 5 (Frauen  -  TB Stöcken  vs.  SF Aligse 2
DESCRIPTION:
URL:https://www.sf-aligse.de/event/voba-landesliga-5-frauen-tb-stoecken-vs-sf-aligse-2/
LOCATION:Grundschule Stöcken\, Am Stöckener Bach 5\, Hannover\, Niedersachsen\, 30419\, Deutschland
CATEGORIES:VolleyballSpiele Erwachsene (ohne Bu.-Liga/Dritte Liga)
END:VEVENT
BEGIN:VEVENT
DTSTART;TZID=Europe/Berlin:20260228T150000
DTEND;TZID=Europe/Berlin:20260228T190000
DTSTAMP:20260421T124535
CREATED:20260222T130308Z
LAST-MODIFIED:20260222T130308Z
UID:17564-1772290800-1772305200@www.sf-aligse.de
SUMMARY:Voba: Landesliga 5 (Männer)  -  MTV Stederdorf 2  vs.  SF Aligse 2
DESCRIPTION:
URL:https://www.sf-aligse.de/event/voba-landesliga-5-maenner-mtv-stederdorf-2-vs-sf-aligse-2/
LOCATION:Pestalozzischule Peine\, Herzbergweg 16\, Peine\, Niedersachsen\, 31224\, Germany
CATEGORIES:VolleyballSpiele Erwachsene (ohne Bu.-Liga/Dritte Liga)
END:VEVENT
BEGIN:VEVENT
DTSTART;TZID=Europe/Berlin:20260228T150000
DTEND;TZID=Europe/Berlin:20260228T190000
DTSTAMP:20260421T124535
CREATED:20260222T125626Z
LAST-MODIFIED:20260222T131407Z
UID:17562-1772290800-1772305200@www.sf-aligse.de
SUMMARY:Voba: Bezirksklasse 5 RegV Hannover (Frauen)  -  TSV Burgdorf 3  vs.  SF Aligse 3
DESCRIPTION:
URL:https://www.sf-aligse.de/event/voba-bezirksklasse-5-regv-hannover-frauen-tsv-burgdorf-3-vs-sf-aligse-3/
LOCATION:IGS Burgdorf (große Halle)\, Vor dem Celler Tor 91\, Burgdorf\, Niedersachsen\, 31303
CATEGORIES:VolleyballSpiele Erwachsene (ohne Bu.-Liga/Dritte Liga)
END:VEVENT
BEGIN:VEVENT
DTSTART;TZID=Europe/Berlin:20260225T193000
DTEND;TZID=Europe/Berlin:20260225T220000
DTSTAMP:20260421T124535
CREATED:20260222T123007Z
LAST-MODIFIED:20260222T123007Z
UID:17560-1772047800-1772056800@www.sf-aligse.de
SUMMARY:Voba: Regions-Liga (FS) Männer D  -  SF Aligse Hobbies 2  vs.  TSV Krähenwinkel-Kaltenweide
DESCRIPTION:
URL:https://www.sf-aligse.de/event/voba-regions-liga-fs-maenner-d-sf-aligse-hobbies-2-vs-tsv-kraehenwinkel-kaltenweide/
LOCATION:Schulzentrum Lehrte-Ost\, Riedweg 12\, Lehrte (OT Hämelerwald)\, Niedersachsen\, 31275\, Deutschland
CATEGORIES:Spiele FS-Ligen (Hobby)
END:VEVENT
BEGIN:VEVENT
DTSTART;TZID=Europe/Berlin:20260222T100000
DTEND;TZID=Europe/Berlin:20260222T140000
DTSTAMP:20260421T124535
CREATED:20260216T160350Z
LAST-MODIFIED:20260220T185934Z
UID:17526-1771754400-1771768800@www.sf-aligse.de
SUMMARY:Voba: Regionsliga Hannover U13 Mixed Endrunde I (Spieltag 1\, in Hannover) -  SF Aligse  vs.  GfL Hannover 1  u.  GfL Hannover 2
DESCRIPTION:
URL:https://www.sf-aligse.de/event/voba-regionsliga-hannover-u13-mixed-endrunde-i-spieltag-1-sf-aligse-vs-gfl-hannover-1-u-gfl-hannover-2/
LOCATION:Freie Waldorfschule Hannover (Neue Halle)\, Rudolf-von-Bennigsen-Ufer 70\, Hannover\, 30173\, Deutschland
CATEGORIES:Spiele Jugendligen
END:VEVENT
BEGIN:VEVENT
DTSTART;TZID=Europe/Berlin:20260221T190000
DTEND;TZID=Europe/Berlin:20260221T203000
DTSTAMP:20260421T124535
CREATED:20260216T155716Z
LAST-MODIFIED:20260221T192834Z
UID:17521-1771700400-1771705800@www.sf-aligse.de
SUMMARY:Voba. 2. Bundesliga Nord Männer  -  PSV Neustrelitz  vs.  America Unlimited Volleys Aligse
DESCRIPTION:
URL:https://www.sf-aligse.de/event/voba-2-bundewsliga-nord-maenner-psv-neustrelitz-vs-america-unlimited-volleys-aligse/
LOCATION:Strelitzhalle\, Louisenstr. 28\, Neustrelitz\, Mecklenburg-Vorpommern\, 17235\, Germany
CATEGORIES:Spiele 1. Herren Volleyball
END:VEVENT
BEGIN:VEVENT
DTSTART;TZID=Europe/Berlin:20260221T150000
DTEND;TZID=Europe/Berlin:20260221T190000
DTSTAMP:20260421T124535
CREATED:20260216T155206Z
LAST-MODIFIED:20260216T155206Z
UID:17519-1771686000-1771700400@www.sf-aligse.de
SUMMARY:Voba: Landesliga 5 (Frauen)  -  SF Aligse 2  vs.  SC Hemmingen-Westerfeld  u.  Weserbergland Volleys
DESCRIPTION:
URL:https://www.sf-aligse.de/event/voba-landesliga-5-frauen-sf-aligse-2-vs-sc-hemmingen-westerfeld-u-weserbergland-volleys/
LOCATION:Sporthalle Friedrichstraße\, Friedrichstraße 9A\, Lehrte\, Niedersachsen\, 31275\, Deutschland
CATEGORIES:VolleyballSpiele Erwachsene (ohne Bu.-Liga/Dritte Liga)
END:VEVENT
BEGIN:VEVENT
DTSTART;TZID=Europe/Berlin:20260221T150000
DTEND;TZID=Europe/Berlin:20260221T190000
DTSTAMP:20260421T124535
CREATED:20260216T154754Z
LAST-MODIFIED:20260216T154754Z
UID:17517-1771686000-1771700400@www.sf-aligse.de
SUMMARY:Voba: Bezirksklasse 2 RegV Hannover (Männer)  -  SF Aligse 4  vs.  MTV Ilten 2  u.  SSV Südwinsen
DESCRIPTION:
URL:https://www.sf-aligse.de/event/voba-bezirksklasse-2-regv-hannover-maenner-sf-aligse-4-vs-mtv-ilten-2-u-ssv-suedwinsen/
LOCATION:Grundschule Aligse\, Im Stegefeld 14\, Lehrte-Aligse\, 31275
CATEGORIES:VolleyballSpiele Erwachsene (ohne Bu.-Liga/Dritte Liga)
END:VEVENT
BEGIN:VEVENT
DTSTART;TZID=Europe/Berlin:20260221T150000
DTEND;TZID=Europe/Berlin:20260221T183000
DTSTAMP:20260421T124535
CREATED:20260216T154445Z
LAST-MODIFIED:20260221T173755Z
UID:17515-1771686000-1771698600@www.sf-aligse.de
SUMMARY:Voba: Bezirksklasse 5 RegV Hannover (Frauen)  -  TuS Altwarmbüchen 2  vs.  SF Aligse 4
DESCRIPTION:
URL:https://www.sf-aligse.de/event/voba-bezirksklasse-5-regv-hannover-frauen-tus-altwarmbuechen-2-vs-sf-aligse-4/
LOCATION:SH Campus Isernhagen\, Helleweg 1\, Isernhagen\, Niedersachsen\, 30916\, Deutschland
CATEGORIES:VolleyballSpiele Erwachsene (ohne Bu.-Liga/Dritte Liga)
END:VEVENT
BEGIN:VEVENT
DTSTART;TZID=Europe/Berlin:20260218T201500
DTEND;TZID=Europe/Berlin:20260218T220000
DTSTAMP:20260421T124535
CREATED:20260216T164532Z
LAST-MODIFIED:20260216T164532Z
UID:17528-1771445700-1771452000@www.sf-aligse.de
SUMMARY:Voba: Regions-Liga (FS)\, Mixed L  -  SF Aligse Hobbies 1  vs.  SG GfL/VfB Hannover
DESCRIPTION:
URL:https://www.sf-aligse.de/event/voba-regions-liga-fs-mixed-l-sf-aligse-hobbies-1-vs-sg-gfl-vfb-hannover/
LOCATION:Grundschule Aligse\, Im Stegefeld 14\, Lehrte-Aligse\, 31275
CATEGORIES:Spiele FS-Ligen (Hobby)
END:VEVENT
BEGIN:VEVENT
DTSTART;TZID=Europe/Berlin:20260214T200000
DTEND;TZID=Europe/Berlin:20260214T223500
DTSTAMP:20260421T124535
CREATED:20260210T185918Z
LAST-MODIFIED:20260214T223605Z
UID:17474-1771099200-1771108500@www.sf-aligse.de
SUMMARY:Voba: 2. Bundesliga Nord Männer  -  America Unlimited Volleys Aligse  vs.  MLK Volleys Köln
DESCRIPTION:
URL:https://www.sf-aligse.de/event/voba-2-bundesliga-nord-maenner-america-unlimited-volleys-aligse-vs-mlk-volleys-koeln/
LOCATION:SH Lehrte-Mitte (31275 Lehrte)\, Schlesische Straße 3\, Lehrte\, Niedersachsen\, 31275\, Deutschland
CATEGORIES:Spiele 1. Herren Volleyball
END:VEVENT
BEGIN:VEVENT
DTSTART;TZID=Europe/Berlin:20260214T150000
DTEND;TZID=Europe/Berlin:20260214T190500
DTSTAMP:20260421T124535
CREATED:20260210T185612Z
LAST-MODIFIED:20260214T223405Z
UID:17472-1771081200-1771095900@www.sf-aligse.de
SUMMARY:Voba: Bezirksliga 3 RegV Hannover (Männer)  -  SF Aligse 3  vs.  Grasdorf/Rethen Volleys II  und  SV Altencelle II
DESCRIPTION:
URL:https://www.sf-aligse.de/event/voba-bezirksliga-3-regv-hannover-maenner-sf-aligse-3-vs-grasdorf-rethen-volleys-ii-und-sv-altencelle-ii/
LOCATION:Grundschule Aligse\, Im Stegefeld 14\, Lehrte-Aligse\, 31275
CATEGORIES:VolleyballSpiele Erwachsene (ohne Bu.-Liga/Dritte Liga)
END:VEVENT
BEGIN:VEVENT
DTSTART;TZID=Europe/Berlin:20260214T130000
DTEND;TZID=Europe/Berlin:20260214T164000
DTSTAMP:20260421T124535
CREATED:20260210T185200Z
LAST-MODIFIED:20260214T154107Z
UID:17470-1771074000-1771087200@www.sf-aligse.de
SUMMARY:Voba: Verbandsliga 4 (Frauen)  -  SF Aligse 1  vs.  SC Langenhagen  und  TV Jahn Walsrode
DESCRIPTION:
URL:https://www.sf-aligse.de/event/voba-vwebansliga-4-frauen-sf-aligse-1-vs-sc-langenhagen-und-tv-jahn-walsrode/
LOCATION:SH Lehrte-Mitte (31275 Lehrte)\, Schlesische Straße 3\, Lehrte\, Niedersachsen\, 31275\, Deutschland
CATEGORIES:Spiele 1. Damen Volleyball
END:VEVENT
BEGIN:VEVENT
DTSTART;TZID=Europe/Berlin:20260211T201500
DTEND;TZID=Europe/Berlin:20260211T220000
DTSTAMP:20260421T124535
CREATED:20260210T190957Z
LAST-MODIFIED:20260210T190957Z
UID:17479-1770840900-1770847200@www.sf-aligse.de
SUMMARY:Voba: Regions-Liga (FS) Mixed L  -  SF Aligse Hobbies 1  vs.  VfL Eintracht Hannover I
DESCRIPTION:
URL:https://www.sf-aligse.de/event/voba-regions-liga-fs-mixed-l-sf-aligse-hobbies-1-vs-vfl-eintracht-hannover-i/
LOCATION:Grundschule Aligse\, Im Stegefeld 14\, Lehrte-Aligse\, 31275
CATEGORIES:Spiele FS-Ligen (Hobby)
END:VEVENT
BEGIN:VEVENT
DTSTART;TZID=Europe/Berlin:20260211T193000
DTEND;TZID=Europe/Berlin:20260211T220000
DTSTAMP:20260421T124535
CREATED:20260210T190604Z
LAST-MODIFIED:20260210T190604Z
UID:17477-1770838200-1770847200@www.sf-aligse.de
SUMMARY:Voba: Regions-Liga (FS) Männer D  -  SF Aligse Hobbies 2  vs.  TSV Schneeren
DESCRIPTION:
URL:https://www.sf-aligse.de/event/voba-regions-liga-fs-maenner-d-sf-aligse-hobbies-2-vs-tsv-schneeren/
LOCATION:Schulzentrum Lehrte-Ost\, Riedweg 12\, Lehrte (OT Hämelerwald)\, Niedersachsen\, 31275\, Deutschland
CATEGORIES:Spiele FS-Ligen (Hobby)
END:VEVENT
BEGIN:VEVENT
DTSTART;TZID=Europe/Berlin:20260208T160000
DTEND;TZID=Europe/Berlin:20260208T183000
DTSTAMP:20260421T124535
CREATED:20260202T195925Z
LAST-MODIFIED:20260202T195925Z
UID:17432-1770566400-1770575400@www.sf-aligse.de
SUMMARY:Voba: 2. Bundesliga Nord Männer  -  FC Schüttorf 09  vs.  America Unlimited Volleys Aligse
DESCRIPTION:
URL:https://www.sf-aligse.de/event/voba-2-bundesliga-nord-maenner-fc-schuettorf-09-vs-america-unlimited-volleys-aligse-2/
LOCATION:Vechtesporthalle\, Quendorfer Straße 25\, Schüttorf\, Niedersachsen\, 48465\, Germany
CATEGORIES:Spiele 1. Herren Volleyball
END:VEVENT
BEGIN:VEVENT
DTSTART;TZID=Europe/Berlin:20260208T110000
DTEND;TZID=Europe/Berlin:20260208T150000
DTSTAMP:20260421T124535
CREATED:20260202T200908Z
LAST-MODIFIED:20260208T141519Z
UID:17436-1770548400-1770562800@www.sf-aligse.de
SUMMARY:Voba: Kreisliga 4 RegV Hannover (Frauen)  -  SF Aligse 5  vs.  MTV Ilten  und  SV Blau-Weiß Neuhof
DESCRIPTION:
URL:https://www.sf-aligse.de/event/voba-kreisliga-4-regv-hannover-frauen-sf-aligse-5-vs-mtv-ilten-und-sv-blau-weiss-neuhof/
LOCATION:Grundschule Aligse\, Im Stegefeld 14\, Lehrte-Aligse\, 31275
CATEGORIES:VolleyballSpiele Erwachsene (ohne Bu.-Liga/Dritte Liga)
END:VEVENT
BEGIN:VEVENT
DTSTART;TZID=Europe/Berlin:20260208T110000
DTEND;TZID=Europe/Berlin:20260208T131500
DTSTAMP:20260421T124535
CREATED:20260202T201252Z
LAST-MODIFIED:20260208T122435Z
UID:17438-1770548400-1770556500@www.sf-aligse.de
SUMMARY:Voba: Bezirksliga 3 RegV Hannover (Männer)  -  VfL Westercelle 2  vs.  SF Aligse 3
DESCRIPTION:
URL:https://www.sf-aligse.de/event/voba-bezirksliga-3-regv-hannover-maenner-vfl-westercelle-2-vs-sf-aligse-3/
LOCATION:SZ Burgstraße (Burghalle)\, Burgstr. 21\, Celle\, Niedersachsen\, 29221\, Deutschland
CATEGORIES:VolleyballSpiele Erwachsene (ohne Bu.-Liga/Dritte Liga)
END:VEVENT
BEGIN:VEVENT
DTSTART;TZID=Europe/Berlin:20260207T150000
DTEND;TZID=Europe/Berlin:20260207T190000
DTSTAMP:20260421T124535
CREATED:20260202T200522Z
LAST-MODIFIED:20260202T200522Z
UID:17434-1770476400-1770490800@www.sf-aligse.de
SUMMARY:Voba: Bezirksklasse 5 RegV Hannover (Frauen)  -  SF Aligse 3  vs.  TuS Altwarmbüchen 2  und  SF Aligse 4
DESCRIPTION:
URL:https://www.sf-aligse.de/event/voba-bezirksklasse-5-regv-hannover-frauen-sf-aligse-3-vs-tus-altwarmbuechen-2-und-sf-aligse-4/
LOCATION:Grundschule Aligse\, Im Stegefeld 14\, Lehrte-Aligse\, 31275
CATEGORIES:VolleyballSpiele Erwachsene (ohne Bu.-Liga/Dritte Liga)
END:VEVENT
BEGIN:VEVENT
DTSTART;TZID=Europe/Berlin:20260207T150000
DTEND;TZID=Europe/Berlin:20260207T174000
DTSTAMP:20260421T124535
CREATED:20260202T202306Z
LAST-MODIFIED:20260207T164227Z
UID:17444-1770476400-1770486000@www.sf-aligse.de
SUMMARY:Voba: Verbandsliga 4 (Frauen)  -  SVG Lüneburg 2  vs.  SF Aligse 1
DESCRIPTION:
URL:https://www.sf-aligse.de/event/voba-verbandsliga-4-frauen-svg-lueneburg-2-vs-sf-aligse-1/
LOCATION:Sporthalle Kaltenmoor I\, Theodor-Heuss-Str. 28\, Lüneburg\, Niedersachsen\, 21337
CATEGORIES:Spiele 1. Damen Volleyball
END:VEVENT
END:VCALENDAR