BEGIN:VCALENDAR
VERSION:2.0
PRODID:-//Sportfreunde Aligse von 1930 e.V. - ECPv6.15.20//NONSGML v1.0//EN
CALSCALE:GREGORIAN
METHOD:PUBLISH
X-WR-CALNAME:Sportfreunde Aligse von 1930 e.V.
X-ORIGINAL-URL:https://www.sf-aligse.de
X-WR-CALDESC:Veranstaltungen für Sportfreunde Aligse von 1930 e.V.
REFRESH-INTERVAL;VALUE=DURATION:PT1H
X-Robots-Tag:noindex
X-PUBLISHED-TTL:PT1H
BEGIN:VTIMEZONE
TZID:Europe/Berlin
BEGIN:DAYLIGHT
TZOFFSETFROM:+0100
TZOFFSETTO:+0200
TZNAME:CEST
DTSTART:20250330T010000
END:DAYLIGHT
BEGIN:STANDARD
TZOFFSETFROM:+0200
TZOFFSETTO:+0100
TZNAME:CET
DTSTART:20251026T010000
END:STANDARD
BEGIN:DAYLIGHT
TZOFFSETFROM:+0100
TZOFFSETTO:+0200
TZNAME:CEST
DTSTART:20260329T010000
END:DAYLIGHT
BEGIN:STANDARD
TZOFFSETFROM:+0200
TZOFFSETTO:+0100
TZNAME:CET
DTSTART:20261025T010000
END:STANDARD
BEGIN:DAYLIGHT
TZOFFSETFROM:+0100
TZOFFSETTO:+0200
TZNAME:CEST
DTSTART:20270328T010000
END:DAYLIGHT
BEGIN:STANDARD
TZOFFSETFROM:+0200
TZOFFSETTO:+0100
TZNAME:CET
DTSTART:20271031T010000
END:STANDARD
END:VTIMEZONE
BEGIN:VEVENT
DTSTART;TZID=Europe/Berlin:20260214T200000
DTEND;TZID=Europe/Berlin:20260214T223500
DTSTAMP:20260421T155712
CREATED:20260210T185918Z
LAST-MODIFIED:20260214T223605Z
UID:17474-1771099200-1771108500@www.sf-aligse.de
SUMMARY:Voba: 2. Bundesliga Nord Männer  -  America Unlimited Volleys Aligse  vs.  MLK Volleys Köln
DESCRIPTION:
URL:https://www.sf-aligse.de/event/voba-2-bundesliga-nord-maenner-america-unlimited-volleys-aligse-vs-mlk-volleys-koeln/
LOCATION:SH Lehrte-Mitte (31275 Lehrte)\, Schlesische Straße 3\, Lehrte\, Niedersachsen\, 31275\, Deutschland
CATEGORIES:Spiele 1. Herren Volleyball
END:VEVENT
BEGIN:VEVENT
DTSTART;TZID=Europe/Berlin:20260214T150000
DTEND;TZID=Europe/Berlin:20260214T190500
DTSTAMP:20260421T155712
CREATED:20260210T185612Z
LAST-MODIFIED:20260214T223405Z
UID:17472-1771081200-1771095900@www.sf-aligse.de
SUMMARY:Voba: Bezirksliga 3 RegV Hannover (Männer)  -  SF Aligse 3  vs.  Grasdorf/Rethen Volleys II  und  SV Altencelle II
DESCRIPTION:
URL:https://www.sf-aligse.de/event/voba-bezirksliga-3-regv-hannover-maenner-sf-aligse-3-vs-grasdorf-rethen-volleys-ii-und-sv-altencelle-ii/
LOCATION:Grundschule Aligse\, Im Stegefeld 14\, Lehrte-Aligse\, 31275
CATEGORIES:VolleyballSpiele Erwachsene (ohne Bu.-Liga/Dritte Liga)
END:VEVENT
BEGIN:VEVENT
DTSTART;TZID=Europe/Berlin:20260214T130000
DTEND;TZID=Europe/Berlin:20260214T164000
DTSTAMP:20260421T155712
CREATED:20260210T185200Z
LAST-MODIFIED:20260214T154107Z
UID:17470-1771074000-1771087200@www.sf-aligse.de
SUMMARY:Voba: Verbandsliga 4 (Frauen)  -  SF Aligse 1  vs.  SC Langenhagen  und  TV Jahn Walsrode
DESCRIPTION:
URL:https://www.sf-aligse.de/event/voba-vwebansliga-4-frauen-sf-aligse-1-vs-sc-langenhagen-und-tv-jahn-walsrode/
LOCATION:SH Lehrte-Mitte (31275 Lehrte)\, Schlesische Straße 3\, Lehrte\, Niedersachsen\, 31275\, Deutschland
CATEGORIES:Spiele 1. Damen Volleyball
END:VEVENT
BEGIN:VEVENT
DTSTART;TZID=Europe/Berlin:20260211T201500
DTEND;TZID=Europe/Berlin:20260211T220000
DTSTAMP:20260421T155712
CREATED:20260210T190957Z
LAST-MODIFIED:20260210T190957Z
UID:17479-1770840900-1770847200@www.sf-aligse.de
SUMMARY:Voba: Regions-Liga (FS) Mixed L  -  SF Aligse Hobbies 1  vs.  VfL Eintracht Hannover I
DESCRIPTION:
URL:https://www.sf-aligse.de/event/voba-regions-liga-fs-mixed-l-sf-aligse-hobbies-1-vs-vfl-eintracht-hannover-i/
LOCATION:Grundschule Aligse\, Im Stegefeld 14\, Lehrte-Aligse\, 31275
CATEGORIES:Spiele FS-Ligen (Hobby)
END:VEVENT
BEGIN:VEVENT
DTSTART;TZID=Europe/Berlin:20260211T193000
DTEND;TZID=Europe/Berlin:20260211T220000
DTSTAMP:20260421T155712
CREATED:20260210T190604Z
LAST-MODIFIED:20260210T190604Z
UID:17477-1770838200-1770847200@www.sf-aligse.de
SUMMARY:Voba: Regions-Liga (FS) Männer D  -  SF Aligse Hobbies 2  vs.  TSV Schneeren
DESCRIPTION:
URL:https://www.sf-aligse.de/event/voba-regions-liga-fs-maenner-d-sf-aligse-hobbies-2-vs-tsv-schneeren/
LOCATION:Schulzentrum Lehrte-Ost\, Riedweg 12\, Lehrte (OT Hämelerwald)\, Niedersachsen\, 31275\, Deutschland
CATEGORIES:Spiele FS-Ligen (Hobby)
END:VEVENT
BEGIN:VEVENT
DTSTART;TZID=Europe/Berlin:20260208T160000
DTEND;TZID=Europe/Berlin:20260208T183000
DTSTAMP:20260421T155712
CREATED:20260202T195925Z
LAST-MODIFIED:20260202T195925Z
UID:17432-1770566400-1770575400@www.sf-aligse.de
SUMMARY:Voba: 2. Bundesliga Nord Männer  -  FC Schüttorf 09  vs.  America Unlimited Volleys Aligse
DESCRIPTION:
URL:https://www.sf-aligse.de/event/voba-2-bundesliga-nord-maenner-fc-schuettorf-09-vs-america-unlimited-volleys-aligse-2/
LOCATION:Vechtesporthalle\, Quendorfer Straße 25\, Schüttorf\, Niedersachsen\, 48465\, Germany
CATEGORIES:Spiele 1. Herren Volleyball
END:VEVENT
BEGIN:VEVENT
DTSTART;TZID=Europe/Berlin:20260208T110000
DTEND;TZID=Europe/Berlin:20260208T150000
DTSTAMP:20260421T155712
CREATED:20260202T200908Z
LAST-MODIFIED:20260208T141519Z
UID:17436-1770548400-1770562800@www.sf-aligse.de
SUMMARY:Voba: Kreisliga 4 RegV Hannover (Frauen)  -  SF Aligse 5  vs.  MTV Ilten  und  SV Blau-Weiß Neuhof
DESCRIPTION:
URL:https://www.sf-aligse.de/event/voba-kreisliga-4-regv-hannover-frauen-sf-aligse-5-vs-mtv-ilten-und-sv-blau-weiss-neuhof/
LOCATION:Grundschule Aligse\, Im Stegefeld 14\, Lehrte-Aligse\, 31275
CATEGORIES:VolleyballSpiele Erwachsene (ohne Bu.-Liga/Dritte Liga)
END:VEVENT
BEGIN:VEVENT
DTSTART;TZID=Europe/Berlin:20260208T110000
DTEND;TZID=Europe/Berlin:20260208T131500
DTSTAMP:20260421T155712
CREATED:20260202T201252Z
LAST-MODIFIED:20260208T122435Z
UID:17438-1770548400-1770556500@www.sf-aligse.de
SUMMARY:Voba: Bezirksliga 3 RegV Hannover (Männer)  -  VfL Westercelle 2  vs.  SF Aligse 3
DESCRIPTION:
URL:https://www.sf-aligse.de/event/voba-bezirksliga-3-regv-hannover-maenner-vfl-westercelle-2-vs-sf-aligse-3/
LOCATION:SZ Burgstraße (Burghalle)\, Burgstr. 21\, Celle\, Niedersachsen\, 29221\, Deutschland
CATEGORIES:VolleyballSpiele Erwachsene (ohne Bu.-Liga/Dritte Liga)
END:VEVENT
BEGIN:VEVENT
DTSTART;TZID=Europe/Berlin:20260207T150000
DTEND;TZID=Europe/Berlin:20260207T190000
DTSTAMP:20260421T155712
CREATED:20260202T200522Z
LAST-MODIFIED:20260202T200522Z
UID:17434-1770476400-1770490800@www.sf-aligse.de
SUMMARY:Voba: Bezirksklasse 5 RegV Hannover (Frauen)  -  SF Aligse 3  vs.  TuS Altwarmbüchen 2  und  SF Aligse 4
DESCRIPTION:
URL:https://www.sf-aligse.de/event/voba-bezirksklasse-5-regv-hannover-frauen-sf-aligse-3-vs-tus-altwarmbuechen-2-und-sf-aligse-4/
LOCATION:Grundschule Aligse\, Im Stegefeld 14\, Lehrte-Aligse\, 31275
CATEGORIES:VolleyballSpiele Erwachsene (ohne Bu.-Liga/Dritte Liga)
END:VEVENT
BEGIN:VEVENT
DTSTART;TZID=Europe/Berlin:20260207T150000
DTEND;TZID=Europe/Berlin:20260207T174000
DTSTAMP:20260421T155712
CREATED:20260202T202306Z
LAST-MODIFIED:20260207T164227Z
UID:17444-1770476400-1770486000@www.sf-aligse.de
SUMMARY:Voba: Verbandsliga 4 (Frauen)  -  SVG Lüneburg 2  vs.  SF Aligse 1
DESCRIPTION:
URL:https://www.sf-aligse.de/event/voba-verbandsliga-4-frauen-svg-lueneburg-2-vs-sf-aligse-1/
LOCATION:Sporthalle Kaltenmoor I\, Theodor-Heuss-Str. 28\, Lüneburg\, Niedersachsen\, 21337
CATEGORIES:Spiele 1. Damen Volleyball
END:VEVENT
BEGIN:VEVENT
DTSTART;TZID=Europe/Berlin:20260207T150000
DTEND;TZID=Europe/Berlin:20260207T173000
DTSTAMP:20260421T155712
CREATED:20260202T201639Z
LAST-MODIFIED:20260207T163749Z
UID:17440-1770476400-1770485400@www.sf-aligse.de
SUMMARY:Voba: Landesliga 5 (Frauen)  -  VfL Uetze  vs.  SF Aligse 2
DESCRIPTION:
URL:https://www.sf-aligse.de/event/voba-landesliga-5-frauen-vfl-uetze-vs-sf-aligse-2/
LOCATION:Großsporthalle Uetze\, Marktstr. 6\, Uetze\, Niedersachsen\, 31311
CATEGORIES:VolleyballSpiele Erwachsene (ohne Bu.-Liga/Dritte Liga)
END:VEVENT
BEGIN:VEVENT
DTSTART;TZID=Europe/Berlin:20260207T150000
DTEND;TZID=Europe/Berlin:20260207T171500
DTSTAMP:20260421T155712
CREATED:20260202T201950Z
LAST-MODIFIED:20260207T163653Z
UID:17442-1770476400-1770484500@www.sf-aligse.de
SUMMARY:Voba: Landesliga 5 (Männer)  -  MTV 48 Hildesheim  vs.  SF Aligse 2
DESCRIPTION:
URL:https://www.sf-aligse.de/event/voba-landesliga-5-maenner-mtv-48-hildesheim-vs-sf-aligse-2/
LOCATION:SH Hildesheim-Stadtmitte\, Pfaffenstieg\, Hildesheim\, Niedersachsen\, 31134\, Deutschland
CATEGORIES:VolleyballSpiele Erwachsene (ohne Bu.-Liga/Dritte Liga)
END:VEVENT
BEGIN:VEVENT
DTSTART;TZID=Europe/Berlin:20260204T201500
DTEND;TZID=Europe/Berlin:20260204T215900
DTSTAMP:20260421T155712
CREATED:20260202T194533Z
LAST-MODIFIED:20260205T155801Z
UID:17430-1770236100-1770242340@www.sf-aligse.de
SUMMARY:Voba: Regions-Liga (FS)\, Mixed L  -  SF Aligse Hobbies 1  vs.  TSV Kleinburgwedel
DESCRIPTION:
URL:https://www.sf-aligse.de/event/voba-regions-liga-fs-mixed-l-sf-aligse-hobbies-1-vs-tsv-kleinburgwedel/
LOCATION:Grundschule Aligse\, Im Stegefeld 14\, Lehrte-Aligse\, 31275
CATEGORIES:Spiele FS-Ligen (Hobby)
END:VEVENT
BEGIN:VEVENT
DTSTART;TZID=Europe/Berlin:20260131T200000
DTEND;TZID=Europe/Berlin:20260131T213000
DTSTAMP:20260421T155712
CREATED:20260125T200146Z
LAST-MODIFIED:20260131T215748Z
UID:17391-1769889600-1769895000@www.sf-aligse.de
SUMMARY:Voba: 2. Bundesliga Nord Männer  -  America Unlimited Volleys Aligse  vs.  TuS Mondorf
DESCRIPTION:
URL:https://www.sf-aligse.de/event/voba-2-bundesliga-nord-maenner-america-unlimited-volleys-aligse-vs-tus-mondorf/
LOCATION:SH Lehrte-Mitte (31275 Lehrte)\, Schlesische Straße 3\, Lehrte\, Niedersachsen\, 31275\, Deutschland
CATEGORIES:Spiele 1. Herren Volleyball
END:VEVENT
BEGIN:VEVENT
DTSTART;TZID=Europe/Berlin:20260131T150000
DTEND;TZID=Europe/Berlin:20260131T193000
DTSTAMP:20260421T155712
CREATED:20260125T195557Z
LAST-MODIFIED:20260125T195854Z
UID:17389-1769871600-1769887800@www.sf-aligse.de
SUMMARY:Voba: Landesliga 5 (Männer)  -  SF Aligse 2  vs.  TSV Giesen GRIZZLYS 7  und  TK Hannover 4
DESCRIPTION:
URL:https://www.sf-aligse.de/event/voba-landesliga-5-maenner-sf-aligse-2-vs-tsv-giesen-grizzlys-7-und-tk-hannover-4/
LOCATION:Grundschule Aligse\, Im Stegefeld 14\, Lehrte-Aligse\, 31275
CATEGORIES:VolleyballSpiele Erwachsene (ohne Bu.-Liga/Dritte Liga)
END:VEVENT
BEGIN:VEVENT
DTSTART;TZID=Europe/Berlin:20260128T193000
DTEND;TZID=Europe/Berlin:20260128T213000
DTSTAMP:20260421T155712
CREATED:20260125T194426Z
LAST-MODIFIED:20260129T185252Z
UID:17383-1769628600-1769635800@www.sf-aligse.de
SUMMARY:Voba: Regions-Liga (FS) Männer D  -  SF Aligse Hobbies 2  vs.  Lehrter SV 2
DESCRIPTION:
URL:https://www.sf-aligse.de/event/voba-regions-liga-fs-maenner-d-sf-aligse-hobbies-2-vs-lehrter-sv-2/
LOCATION:Schulzentrum Lehrte-Ost\, Riedweg 12\, Lehrte (OT Hämelerwald)\, Niedersachsen\, 31275\, Deutschland
CATEGORIES:Spiele FS-Ligen (Hobby)
END:VEVENT
BEGIN:VEVENT
DTSTART;TZID=Europe/Berlin:20260127T190000
DTEND;TZID=Europe/Berlin:20260127T210000
DTSTAMP:20260421T155712
CREATED:20260125T195054Z
LAST-MODIFIED:20260129T185215Z
UID:17385-1769540400-1769547600@www.sf-aligse.de
SUMMARY:Voba: Regions-Liga (FS)\, Mixed L  -  Hannoverscher VV 3  vs.  SF Aligse Hobbies 1
DESCRIPTION:
URL:https://www.sf-aligse.de/event/voba-regions-liga-fs-mixed-l-hannoverscher-vv-3-vs-sf-aligse-hobbies-1/
LOCATION:Sporthalle Suthwiesenstr.\, Suthwiesenstr. 36\, Hannover\, Niedersachsen\, 30519\, Germany
CATEGORIES:Spiele FS-Ligen (Hobby)
END:VEVENT
BEGIN:VEVENT
DTSTART;TZID=Europe/Berlin:20260125T100000
DTEND;TZID=Europe/Berlin:20260125T165900
DTSTAMP:20260421T155712
CREATED:20260120T214436Z
LAST-MODIFIED:20260125T173854Z
UID:17347-1769335200-1769360340@www.sf-aligse.de
SUMMARY:Voba: Jugendmeisterschaften – Endrunde U16 weibl. - Turnier 1 (bei GfL Hannover)
DESCRIPTION:Qualifiziert sind : ASC 46 Göttingen\, GfL Hannover\, MTV Bad Pyrmont\, SC Spelle-Venhaus\, SF Aligse und TuS Bersenbrück
URL:https://www.sf-aligse.de/event/voba-jugendmeisterschaften-endrunde-u16-weibl-turnier-1-bei-gfl-hannover/
LOCATION:Freie Waldorfschule Hannover (Neue Halle)\, Rudolf-von-Bennigsen-Ufer 70\, Hannover\, 30173\, Deutschland
CATEGORIES:Jugendmeisterschaft
END:VEVENT
BEGIN:VEVENT
DTSTART;TZID=Europe/Berlin:20260125T100000
DTEND;TZID=Europe/Berlin:20260125T140000
DTSTAMP:20260421T155712
CREATED:20260104T233854Z
LAST-MODIFIED:20260120T213628Z
UID:17262-1769335200-1769349600@www.sf-aligse.de
SUMMARY:Voba: Regionsliga Hannover U13 Mixed II (Spieltag 4)  -  SF Aligse  vs\,  RSV Seelze 2  und  TK Hannover - in Aligse -
DESCRIPTION:Spieltag wurde wetterbedingt vom 11.01.2026 verschoben
URL:https://www.sf-aligse.de/event/voba-regionsliga-hannover-u13-mixed-ii-spieltag-4-sf-aligse-vs-rsv-seelze-2-und-tk-hannover-in-aligse/
LOCATION:Grundschule Aligse\, Im Stegefeld 14\, Lehrte-Aligse\, 31275
CATEGORIES:Spiele Jugendligen
END:VEVENT
BEGIN:VEVENT
DTSTART;TZID=Europe/Berlin:20260124T183000
DTEND;TZID=Europe/Berlin:20260124T203000
DTSTAMP:20260421T155712
CREATED:20260120T221346Z
LAST-MODIFIED:20260124T193753Z
UID:17357-1769279400-1769286600@www.sf-aligse.de
SUMMARY:Voba: 2. Bundesliga Nord Männer  -  TuB Bocholt  vs.  America Unlimited Volleys Aligse
DESCRIPTION:
URL:https://www.sf-aligse.de/event/voba-2-bundesliga-nord-maenner-tub-bocholt-vs-america-unlimited-volleys-aligse-2/
LOCATION:Sporthalle West\, Werther Str. 24\, Bocholt\, Nordrhein-Westfalen\, 46395\, Germany
CATEGORIES:Spiele 1. Herren Volleyball
END:VEVENT
BEGIN:VEVENT
DTSTART;TZID=Europe/Berlin:20260124T150000
DTEND;TZID=Europe/Berlin:20260124T193000
DTSTAMP:20260421T155712
CREATED:20260120T220134Z
LAST-MODIFIED:20260120T220134Z
UID:17355-1769266800-1769283000@www.sf-aligse.de
SUMMARY:Voba: Landesliga 5 (Männer)  -  MTV SG - Borsum Harsum Achtum  vs.  SF Aligse 2
DESCRIPTION:
URL:https://www.sf-aligse.de/event/voba-landesliga-5-maenner-mtv-sg-borsum-harsum-achtum-vs-sf-aligse-2/
LOCATION:Molitorisschule\, Wiesling 5\, Harsum\, Niedersachsen\, 31177\, Germany
CATEGORIES:VolleyballSpiele Erwachsene (ohne Bu.-Liga/Dritte Liga)
END:VEVENT
BEGIN:VEVENT
DTSTART;TZID=Europe/Berlin:20260124T150000
DTEND;TZID=Europe/Berlin:20260124T193000
DTSTAMP:20260421T155712
CREATED:20260120T215700Z
LAST-MODIFIED:20260120T215700Z
UID:17353-1769266800-1769283000@www.sf-aligse.de
SUMMARY:Voba: Bezirksklasse 5 RegV Hannover (Frauen)  -  SF Aligse 4  vs.  TuS Altwarmbüchen 3  und  TSV Burgdorf 3
DESCRIPTION:
URL:https://www.sf-aligse.de/event/voba-bezirksklasse-5-regv-hannover-frauen-sf-aligse-4-vs-tus-altwarmbuechen-3-und-tsv-burgdorf-3/
LOCATION:Grundschule Aligse\, Im Stegefeld 14\, Lehrte-Aligse\, 31275
CATEGORIES:VolleyballSpiele Erwachsene (ohne Bu.-Liga/Dritte Liga)
END:VEVENT
BEGIN:VEVENT
DTSTART;TZID=Europe/Berlin:20260124T150000
DTEND;TZID=Europe/Berlin:20260124T193000
DTSTAMP:20260421T155712
CREATED:20260120T215218Z
LAST-MODIFIED:20260120T215218Z
UID:17351-1769266800-1769283000@www.sf-aligse.de
SUMMARY:Voba: Bezirksklasse 2 RegV Hannover (Männer)  -  TSV Burgdorf 4  vs.  SF Aligse 4
DESCRIPTION:
URL:https://www.sf-aligse.de/event/voba-bezirksklasse-2-regv-hannover-maenner-tsv-burgdorf-4-vs-sf-aligse-4/
LOCATION:IGS Burgdorf (große Halle)\, Vor dem Celler Tor 91\, Burgdorf\, Niedersachsen\, 31303
CATEGORIES:VolleyballSpiele Erwachsene (ohne Bu.-Liga/Dritte Liga)
END:VEVENT
BEGIN:VEVENT
DTSTART;TZID=Europe/Berlin:20260124T140000
DTEND;TZID=Europe/Berlin:20260124T183000
DTSTAMP:20260421T155712
CREATED:20260120T214837Z
LAST-MODIFIED:20260120T214837Z
UID:17349-1769263200-1769279400@www.sf-aligse.de
SUMMARY:Voba: Landesliga 5 (Frauen)  -  GfL Hannover 4  vs.  SF Aligse 2
DESCRIPTION:
URL:https://www.sf-aligse.de/event/voba-landesliga-5-frauen-gfl-hannover-4-vs-sf-aligse-2/
LOCATION:Freie Waldorfschule Hannover (Neue Halle)\, Rudolf-von-Bennigsen-Ufer 70\, Hannover\, 30173\, Deutschland
CATEGORIES:VolleyballSpiele Erwachsene (ohne Bu.-Liga/Dritte Liga)
END:VEVENT
BEGIN:VEVENT
DTSTART;TZID=Europe/Berlin:20260118T140000
DTEND;TZID=Europe/Berlin:20260118T180000
DTSTAMP:20260421T155712
CREATED:20260114T181352Z
LAST-MODIFIED:20260114T181352Z
UID:17305-1768744800-1768759200@www.sf-aligse.de
SUMMARY:Voba: Landesliga 5 (Frauen)  -  GfL Hannover 3  vs.  SF Aligse 2
DESCRIPTION:
URL:https://www.sf-aligse.de/event/voba-landesliga-5-frauen-gfl-hannover-3-vs-sf-aligse-2/
LOCATION:Freie Waldorfschule Hannover (Neue Halle)\, Rudolf-von-Bennigsen-Ufer 70\, Hannover\, 30173\, Deutschland
CATEGORIES:VolleyballSpiele Erwachsene (ohne Bu.-Liga/Dritte Liga)
END:VEVENT
BEGIN:VEVENT
DTSTART;TZID=Europe/Berlin:20260118T130000
DTEND;TZID=Europe/Berlin:20260118T173000
DTSTAMP:20260421T155712
CREATED:20260114T181102Z
LAST-MODIFIED:20260114T181102Z
UID:17303-1768741200-1768757400@www.sf-aligse.de
SUMMARY:Voba: Bezirksklasse 5 RegV Hannover (Frauen)  -  SF Aligse 3  vs.  SV Hambühren  und  VfL Westercelle 2
DESCRIPTION:
URL:https://www.sf-aligse.de/event/voba-bezirksklasse-5-regv-hannover-frauen-sf-aligse-3-vs-sv-hambuehren-und-vfl-westercelle-2/
LOCATION:Grundschule Aligse\, Im Stegefeld 14\, Lehrte-Aligse\, 31275
CATEGORIES:VolleyballSpiele Erwachsene (ohne Bu.-Liga/Dritte Liga)
END:VEVENT
BEGIN:VEVENT
DTSTART;TZID=Europe/Berlin:20260118T100000
DTEND;TZID=Europe/Berlin:20260118T140000
DTSTAMP:20260421T155712
CREATED:20260114T182441Z
LAST-MODIFIED:20260114T182441Z
UID:17307-1768730400-1768744800@www.sf-aligse.de
SUMMARY:Voba: Regionsliga Hannover U14m Endrunde I - Spieltag 1 (in Hannover) mit SF Aligse 1 und  2  vs.  TK Hannover\, SV Nienhagen und GfL Hannover
DESCRIPTION:
URL:https://www.sf-aligse.de/event/voba-regionsliga-hannover-u14m-endrunde-i-spieltag-1-in-hannover-mit-sf-aligse-1-und-2-vs-tk-hannover-sv-nienhagen-und-gfl-hannover/
LOCATION:Freie Waldorfschule Hannover (Neue Halle)\, Rudolf-von-Bennigsen-Ufer 70\, Hannover\, 30173\, Deutschland
CATEGORIES:Spiele Jugendligen
END:VEVENT
BEGIN:VEVENT
DTSTART;TZID=Europe/Berlin:20260117T200000
DTEND;TZID=Europe/Berlin:20260117T220000
DTSTAMP:20260421T155712
CREATED:20260114T163238Z
LAST-MODIFIED:20260114T163238Z
UID:17301-1768680000-1768687200@www.sf-aligse.de
SUMMARY:Voba: 2. Bundesliga Nord Männer  -  America Unlimited Volleys Aligse  vs.  SV Lindow-Gransee
DESCRIPTION:
URL:https://www.sf-aligse.de/event/voba-2-bundesliga-nord-maenner-america-unlimited-volleys-aligse-vs-sv-lindow-gransee/
LOCATION:SH Lehrte-Mitte (31275 Lehrte)\, Schlesische Straße 3\, Lehrte\, Niedersachsen\, 31275\, Deutschland
CATEGORIES:Spiele 1. Herren Volleyball
END:VEVENT
BEGIN:VEVENT
DTSTART;TZID=Europe/Berlin:20260117T150000
DTEND;TZID=Europe/Berlin:20260117T173000
DTSTAMP:20260421T155712
CREATED:20260114T162640Z
LAST-MODIFIED:20260117T162148Z
UID:17297-1768662000-1768671000@www.sf-aligse.de
SUMMARY:Voba: Bezirksliga 3 RegV Hannover (Männer)  -  SV Nienhagen  vs.  SF Aligse 3
DESCRIPTION:
URL:https://www.sf-aligse.de/event/voba-bezirksliga-3-regv-hannover-maenner-sv-nienhagen-vs-sf-aligse-3/
LOCATION:SH am Europabad\, Jahnring 19\, Nienhagen\, Niedersachsen\, 29336\, Deutschland
CATEGORIES:VolleyballSpiele Erwachsene (ohne Bu.-Liga/Dritte Liga)
END:VEVENT
BEGIN:VEVENT
DTSTART;TZID=Europe/Berlin:20260117T150000
DTEND;TZID=Europe/Berlin:20260117T163000
DTSTAMP:20260421T155712
CREATED:20260114T163015Z
LAST-MODIFIED:20260117T152725Z
UID:17299-1768662000-1768667400@www.sf-aligse.de
SUMMARY:Voba: Verbandsliga 4 (Frauen)  -  TSV Stelle  vs.  SF Aligse 1
DESCRIPTION:
URL:https://www.sf-aligse.de/event/voba-verbandsliga-4-frauen-tsv-stelle-vs-sf-aligse-1/
LOCATION:GHS Stelle\, Am Büllerberg\, Stelle\, Niedersachsen\, 21435
CATEGORIES:Spiele 1. Damen Volleyball
END:VEVENT
END:VCALENDAR