BEGIN:VCALENDAR
VERSION:2.0
PRODID:-//Sportfreunde Aligse von 1930 e.V. - ECPv6.15.20//NONSGML v1.0//EN
CALSCALE:GREGORIAN
METHOD:PUBLISH
X-ORIGINAL-URL:https://www.sf-aligse.de
X-WR-CALDESC:Veranstaltungen für Sportfreunde Aligse von 1930 e.V.
REFRESH-INTERVAL;VALUE=DURATION:PT1H
X-Robots-Tag:noindex
X-PUBLISHED-TTL:PT1H
BEGIN:VTIMEZONE
TZID:Europe/Berlin
BEGIN:DAYLIGHT
TZOFFSETFROM:+0100
TZOFFSETTO:+0200
TZNAME:CEST
DTSTART:20220327T010000
END:DAYLIGHT
BEGIN:STANDARD
TZOFFSETFROM:+0200
TZOFFSETTO:+0100
TZNAME:CET
DTSTART:20221030T010000
END:STANDARD
BEGIN:DAYLIGHT
TZOFFSETFROM:+0100
TZOFFSETTO:+0200
TZNAME:CEST
DTSTART:20230326T010000
END:DAYLIGHT
BEGIN:STANDARD
TZOFFSETFROM:+0200
TZOFFSETTO:+0100
TZNAME:CET
DTSTART:20231029T010000
END:STANDARD
BEGIN:DAYLIGHT
TZOFFSETFROM:+0100
TZOFFSETTO:+0200
TZNAME:CEST
DTSTART:20240331T010000
END:DAYLIGHT
BEGIN:STANDARD
TZOFFSETFROM:+0200
TZOFFSETTO:+0100
TZNAME:CET
DTSTART:20241027T010000
END:STANDARD
BEGIN:DAYLIGHT
TZOFFSETFROM:+0100
TZOFFSETTO:+0200
TZNAME:CEST
DTSTART:20250330T010000
END:DAYLIGHT
BEGIN:STANDARD
TZOFFSETFROM:+0200
TZOFFSETTO:+0100
TZNAME:CET
DTSTART:20251026T010000
END:STANDARD
END:VTIMEZONE
BEGIN:VEVENT
DTSTART;TZID=Europe/Berlin:20231209T150000
DTEND;TZID=Europe/Berlin:20231209T170000
DTSTAMP:20260419T154015
CREATED:20231203T232801Z
LAST-MODIFIED:20231209T162456Z
UID:14148-1702134000-1702141200@www.sf-aligse.de
SUMMARY:Volleyball\, Verbandsliga 4 (Männer): SF Aligse 2  vs.  MTV Gifhorn  und  MTV Stederdorf
DESCRIPTION:
URL:https://www.sf-aligse.de/event/volleyball-verbandsliga-4-maenner-sf-aligse-2-vs-mtv-gifhorn-und-mtv-stederdorf/
LOCATION:Schulzentrum Lehrte-Ost\, Riedweg 12\, Lehrte (OT Hämelerwald)\, Niedersachsen\, 31275\, Deutschland
CATEGORIES:VolleyballSpiele Erwachsene (ohne Bu.-Liga/Dritte Liga)
ATTACH;FMTTYPE=image/jpeg:https://www.sf-aligse.de/wp-content/uploads/2021/09/Gallier-Logo_Heimspiel_Fotor.jpg
END:VEVENT
BEGIN:VEVENT
DTSTART;TZID=Europe/Berlin:20231209T150000
DTEND;TZID=Europe/Berlin:20231209T183000
DTSTAMP:20260419T154015
CREATED:20231203T230327Z
LAST-MODIFIED:20231203T230457Z
UID:14138-1702134000-1702146600@www.sf-aligse.de
SUMMARY:Volleyball\, Kreisliga 2 Hannover (Frauen): SF Aligse 4  vs.  GfL Hannover 8 und TS Großburgwedel
DESCRIPTION:
URL:https://www.sf-aligse.de/event/volleyball-kreisliga-2-hannover-frauen-sf-aligse-4-vs-gfl-hannover-8-und-ts-grossburgwedel/
LOCATION:SH Aligse\, Im Stegfeld 7\, Aligse\, Niedersachsen\, 31275\, Deutschland
CATEGORIES:VolleyballSpiele Erwachsene (ohne Bu.-Liga/Dritte Liga)
ATTACH;FMTTYPE=image/jpeg:https://www.sf-aligse.de/wp-content/uploads/2021/09/Gallier-Logo_Heimspiel_Fotor.jpg
END:VEVENT
BEGIN:VEVENT
DTSTART;TZID=Europe/Berlin:20231209T150000
DTEND;TZID=Europe/Berlin:20231209T183000
DTSTAMP:20260419T154015
CREATED:20231203T231344Z
LAST-MODIFIED:20231203T231344Z
UID:14142-1702134000-1702146600@www.sf-aligse.de
SUMMARY:Volleyball\, Bezirksliga Hannover 2 (Männer): TSV Burgdorf 3  vs.  SF Aligse 4
DESCRIPTION:
URL:https://www.sf-aligse.de/event/volleyball-bezirksliga-hannover-2-maenner-tsv-burgdorf-3-vs-sf-aligse-4/
LOCATION:IGS Burgdorf (große Halle)\, Vor dem Celler Tor 91\, Burgdorf\, Niedersachsen\, 31303
CATEGORIES:VolleyballSpiele Erwachsene (ohne Bu.-Liga/Dritte Liga)
ATTACH;FMTTYPE=image/jpeg:https://www.sf-aligse.de/wp-content/uploads/2021/09/Gallier-Logo_on-Tour_Fotor.jpg
END:VEVENT
BEGIN:VEVENT
DTSTART;TZID=Europe/Berlin:20231209T200000
DTEND;TZID=Europe/Berlin:20231209T220000
DTSTAMP:20260419T154015
CREATED:20231203T233200Z
LAST-MODIFIED:20231203T233200Z
UID:14150-1702152000-1702159200@www.sf-aligse.de
SUMMARY:Volleyball\, Dritte Liga West Männer: SF Aligse  vs.  Brühler TV
DESCRIPTION:
URL:https://www.sf-aligse.de/event/volleyball-dritte-liga-west-maenner-sf-aligse-vs-bruehler-tv/
LOCATION:SH Lehrte-Mitte (31275 Lehrte)\, Schlesische Straße 3\, Lehrte\, Niedersachsen\, 31275\, Deutschland
CATEGORIES:Spiele 1. Herren Volleyball
ATTACH;FMTTYPE=image/jpeg:https://www.sf-aligse.de/wp-content/uploads/2021/09/Gallier-Logo_Heimspiel_Fotor.jpg
END:VEVENT
BEGIN:VEVENT
DTSTART;TZID=Europe/Berlin:20231210T100000
DTEND;TZID=Europe/Berlin:20231210T143000
DTSTAMP:20260419T154015
CREATED:20231203T223152Z
LAST-MODIFIED:20231203T233831Z
UID:14133-1702202400-1702218600@www.sf-aligse.de
SUMMARY:Volleyball\, Regionsliga Hannover U13 Mixed I: SF Aligse vs. GfL Hannover 1\, TK Hannover u. TSV Eldagsen
DESCRIPTION:
URL:https://www.sf-aligse.de/event/volleyball-regionsliga-hannover-u13-mixed-i-sf-aligse-vs-gfl-hannover-1-tk-hannover-u-tsv-eldagsen/
LOCATION:Freie Waldorfschule Hannover (Neue Halle)\, Rudolf-von-Bennigsen-Ufer 70\, Hannover\, 30173\, Deutschland
CATEGORIES:Spiele Jugendligen
ATTACH;FMTTYPE=image/jpeg:https://www.sf-aligse.de/wp-content/uploads/2022/03/Mikasa_200_Jugend.jpg
END:VEVENT
BEGIN:VEVENT
DTSTART;TZID=Europe/Berlin:20231210T100000
DTEND;TZID=Europe/Berlin:20231210T143000
DTSTAMP:20260419T154015
CREATED:20231203T223934Z
LAST-MODIFIED:20231203T225644Z
UID:14136-1702202400-1702218600@www.sf-aligse.de
SUMMARY:Volleyball\, Regionsliga Hannover U16/U18m II: SF Aligse vs. TK Hannover\, TSV Burgdorf u. SV Nienhagen
DESCRIPTION:
URL:https://www.sf-aligse.de/event/volleyball-regionsliga-hannover-u16-u18m-ii-sf-aligse-vs-tk-hannover-tsv-burgdorf-u-sv-nienhagen/
LOCATION:IGS Burgdorf (große Halle)\, Vor dem Celler Tor 91\, Burgdorf\, Niedersachsen\, 31303
CATEGORIES:Spiele Jugendligen
ATTACH;FMTTYPE=image/jpeg:https://www.sf-aligse.de/wp-content/uploads/2022/03/Mikasa_200_Jugend.jpg
END:VEVENT
BEGIN:VEVENT
DTSTART;TZID=Europe/Berlin:20231213T190000
DTEND;TZID=Europe/Berlin:20231213T210000
DTSTAMP:20260419T154016
CREATED:20231205T180236Z
LAST-MODIFIED:20231205T180236Z
UID:14167-1702494000-1702501200@www.sf-aligse.de
SUMMARY:Volleyball\, Regions-Liga (FS) Männer D: SF Aligse Hobbies 2  vs.  TSV Höver
DESCRIPTION:
URL:https://www.sf-aligse.de/event/volleyball-regions-liga-fs-maenner-d-sf-aligse-hobbies-2-vs-tsv-hoever/
LOCATION:Schulzentrum Lehrte-Ost\, Riedweg 12\, Lehrte (OT Hämelerwald)\, Niedersachsen\, 31275\, Deutschland
CATEGORIES:Spiele FS-Ligen (Hobby)
ATTACH;FMTTYPE=image/jpeg:https://www.sf-aligse.de/wp-content/uploads/2021/09/Gallier-Logo_Heimspiel_Fotor.jpg
END:VEVENT
BEGIN:VEVENT
DTSTART;TZID=Europe/Berlin:20231216T140000
DTEND;TZID=Europe/Berlin:20231216T180000
DTSTAMP:20260419T154016
CREATED:20231205T205059Z
LAST-MODIFIED:20231205T205059Z
UID:14181-1702735200-1702749600@www.sf-aligse.de
SUMMARY:Volleyball\, Final Four im Regionspokal Bezirksklasse der Frauen: mit SF Aligse 3 (in Burgdorf)
DESCRIPTION:ab 14 Uhr: Spiel 1 = Halbfinale 1: TB Stöcken 2  vs.  SF Aligse 3 \nca. 15 Uhr: Spiel 2 = Halbfinale 2: TSV Egestorf  vs.  TSV Burgdorf \nca. 16.30 Uhr (die Spiele 3 und 4 finden parallel statt): \nSpiel 3 = Spiel um Pl. 3: Verlierer HF 1  vs.  Verlierer HF 2 \nSpiel 4 = Finale: Sieger HF 1  vs.  Sieger HF 2
URL:https://www.sf-aligse.de/event/volleyball-final-four-im-regionspokal-bezirksklasse-der-frauen-mit-sf-aligse-3-in-burgdorf/
LOCATION:SH Gymnasium Burgdorf\, Berliner Ring 27\, Burgdorf\, Niedersachsen\, 31303\, Deutschland
CATEGORIES:Pokalspiele
ATTACH;FMTTYPE=image/jpeg:https://www.sf-aligse.de/wp-content/uploads/2021/09/Gallier-Logo_on-Tour_Fotor.jpg
END:VEVENT
BEGIN:VEVENT
DTSTART;TZID=Europe/Berlin:20231216T150000
DTEND;TZID=Europe/Berlin:20231216T190000
DTSTAMP:20260419T154016
CREATED:20231205T182609Z
LAST-MODIFIED:20231205T182609Z
UID:14177-1702738800-1702753200@www.sf-aligse.de
SUMMARY:Volleyball\, Bezirksliga Hannover 2 (Männer): SF Aligse 4  vs.  TuS Lachendorf 2 und TB Stöcken 2
DESCRIPTION:
URL:https://www.sf-aligse.de/event/volleyball-bezirksliga-hannover-2-maenner-sf-aligse-4-vs-tus-lachendorf-2-und-tb-stoecken-2/
LOCATION:SH Aligse\, Im Stegfeld 7\, Aligse\, Niedersachsen\, 31275\, Deutschland
CATEGORIES:VolleyballSpiele Erwachsene (ohne Bu.-Liga/Dritte Liga)
ATTACH;FMTTYPE=image/jpeg:https://www.sf-aligse.de/wp-content/uploads/2021/09/Gallier-Logo_Heimspiel_Fotor.jpg
END:VEVENT
BEGIN:VEVENT
DTSTART;TZID=Europe/Berlin:20231216T200000
DTEND;TZID=Europe/Berlin:20231216T220000
DTSTAMP:20260419T154016
CREATED:20231205T193036Z
LAST-MODIFIED:20231205T193036Z
UID:14179-1702756800-1702764000@www.sf-aligse.de
SUMMARY:Volleyball\, Dritte Liga West Männer: SF Aligse  vs.  Oldenburger TB
DESCRIPTION:
URL:https://www.sf-aligse.de/event/volleyball-dritte-liga-west-maenner-sf-aligse-vs-oldenburger-tb/
LOCATION:SH Lehrte-Mitte (31275 Lehrte)\, Schlesische Straße 3\, Lehrte\, Niedersachsen\, 31275\, Deutschland
CATEGORIES:Spiele 1. Herren Volleyball
ATTACH;FMTTYPE=image/jpeg:https://www.sf-aligse.de/wp-content/uploads/2021/09/Gallier-Logo_Heimspiel_Fotor.jpg
END:VEVENT
BEGIN:VEVENT
DTSTART;TZID=Europe/Berlin:20231217T100000
DTEND;TZID=Europe/Berlin:20231217T140000
DTSTAMP:20260419T154016
CREATED:20231205T181630Z
LAST-MODIFIED:20231205T181630Z
UID:14173-1702807200-1702821600@www.sf-aligse.de
SUMMARY:Volleyball\, Regionsliga Hannover U14/U15m II: SF Aligse  vs.  Lehrter SV\, TSV Burgdorf u. TSV Krähenwinkel/Kaltenweide (in Aligse)
DESCRIPTION:
URL:https://www.sf-aligse.de/event/volleyball-regionsliga-hannover-u14-u15m-ii-sf-aligse-vs-lehrter-sv-tsv-burgdorf-u-tsv-kraehenwinkel-kaltenweide-in-aligse/
LOCATION:SH Aligse\, Im Stegfeld 7\, Aligse\, Niedersachsen\, 31275\, Deutschland
CATEGORIES:Spiele Jugendligen
ATTACH;FMTTYPE=image/jpeg:https://www.sf-aligse.de/wp-content/uploads/2022/03/Mikasa_200_Jugend.jpg
END:VEVENT
BEGIN:VEVENT
DTSTART;TZID=Europe/Berlin:20231217T100000
DTEND;TZID=Europe/Berlin:20231217T143000
DTSTAMP:20260419T154016
CREATED:20231205T181026Z
LAST-MODIFIED:20231205T205354Z
UID:14171-1702807200-1702823400@www.sf-aligse.de
SUMMARY:Volleyball\, Regionsliga Hannover U12 mixed I: GfL Hannover 1\, SV Nienhagen 1 u. SV Nienhagen 2  vs.  SF Aligse (in Hannover)
DESCRIPTION:
URL:https://www.sf-aligse.de/event/volleyball-regionsliga-hannover-u12-mixed-i-gfl-hannover-1-sv-nienhagen-1-u-sv-nienhagen-2-vs-sf-aligse/
LOCATION:Freie Waldorfschule Hannover (Neue Halle)\, Rudolf-von-Bennigsen-Ufer 70\, Hannover\, 30173\, Deutschland
CATEGORIES:Spiele Jugendligen
ATTACH;FMTTYPE=image/jpeg:https://www.sf-aligse.de/wp-content/uploads/2022/03/Mikasa_200_Jugend.jpg
END:VEVENT
BEGIN:VEVENT
DTSTART;TZID=Europe/Berlin:20231217T110000
DTEND;TZID=Europe/Berlin:20231217T153000
DTSTAMP:20260419T154016
CREATED:20231205T182213Z
LAST-MODIFIED:20231205T182213Z
UID:14175-1702810800-1702827000@www.sf-aligse.de
SUMMARY:Volleyball\, Bezirksklasse 2 Hannover (Männer): SG Örtzetal 2  vs.  SF Aligse 5
DESCRIPTION:
URL:https://www.sf-aligse.de/event/volleyball-bezirksklasse-2-hannover-maenner-sg-oertzetal-2-vs-sf-aligse-5/
LOCATION:SH Örtzetal\, Lutterweg\, Hermannsburg\, 29320
CATEGORIES:VolleyballSpiele Erwachsene (ohne Bu.-Liga/Dritte Liga)
ATTACH;FMTTYPE=image/jpeg:https://www.sf-aligse.de/wp-content/uploads/2021/09/Gallier-Logo_on-Tour_Fotor.jpg
END:VEVENT
BEGIN:VEVENT
DTSTART;TZID=Europe/Berlin:20231218T200000
DTEND;TZID=Europe/Berlin:20231218T220000
DTSTAMP:20260419T154016
CREATED:20231205T180528Z
LAST-MODIFIED:20231205T180528Z
UID:14169-1702929600-1702936800@www.sf-aligse.de
SUMMARY:Volleyball\, Regions-Liga (FS) Männer D: MTV Dedenhausen  vs.  SF Aligse Hobbies 2
DESCRIPTION:
URL:https://www.sf-aligse.de/event/volleyball-regions-liga-fs-maenner-d-mtv-dedenhausen-vs-sf-aligse-hobbies-2/
LOCATION:SH Dedenhausen\, Unter den Eichen 6\, Uetze\, Niedersachsen\, 31311\, Deutschland
CATEGORIES:Spiele FS-Ligen (Hobby)
ATTACH;FMTTYPE=image/jpeg:https://www.sf-aligse.de/wp-content/uploads/2021/09/Gallier-Logo_on-Tour_Fotor.jpg
END:VEVENT
BEGIN:VEVENT
DTSTART;TZID=Europe/Berlin:20231222T180000
DTEND;TZID=Europe/Berlin:20231222T220000
DTSTAMP:20260419T154016
CREATED:20231205T210344Z
LAST-MODIFIED:20231205T214753Z
UID:14187-1703268000-1703282400@www.sf-aligse.de
SUMMARY:Volleyball\, Sparteninternes Mixed-Weihnachtsturnier
DESCRIPTION:
URL:https://www.sf-aligse.de/event/volleyball-sparteninternes-weihnachtsturnier-mit-mixed-teams/
LOCATION:SH Aligse\, Im Stegfeld 7\, Aligse\, Niedersachsen\, 31275\, Deutschland
CATEGORIES:Hallenturniere,Volleyball
END:VEVENT
BEGIN:VEVENT
DTSTART;TZID=Europe/Berlin:20240106T160000
DTEND;TZID=Europe/Berlin:20240106T183000
DTSTAMP:20260419T154016
CREATED:20231228T123126Z
LAST-MODIFIED:20231228T123126Z
UID:14261-1704556800-1704565800@www.sf-aligse.de
SUMMARY:Volleyball\, Dritte Liga West Männer: FCJ Köln  vs.  SF Aligse
DESCRIPTION:
URL:https://www.sf-aligse.de/event/volleyball-dritte-liga-west-maenner-fcj-koeln-vs-sf-aligse/
LOCATION:MZH Städtisches Gymnasium Neue Sandkaul\, Neue Sandkaul 29\, Köln\, Nordrhein-Westfalen\, 50859\, Deutschland
CATEGORIES:Spiele 1. Herren Volleyball
ATTACH;FMTTYPE=image/jpeg:https://www.sf-aligse.de/wp-content/uploads/2021/09/Gallier-Logo_on-Tour_Fotor.jpg
END:VEVENT
BEGIN:VEVENT
DTSTART;TZID=Europe/Berlin:20240113T130000
DTEND;TZID=Europe/Berlin:20240113T173000
DTSTAMP:20260419T154016
CREATED:20231231T230007Z
LAST-MODIFIED:20231231T230007Z
UID:14285-1705150800-1705167000@www.sf-aligse.de
SUMMARY:Volleyball\, Landesliga 5 (Frauen): TK Hannover 3  vs.  SF Aligse 2
DESCRIPTION:
URL:https://www.sf-aligse.de/event/volleyball-landesliga-5-frauen-tk-hannover-3-vs-sf-aligse-2/
LOCATION:Otfried-Preussler-Schule\, Birkenstr. 12\, Hannover\, Niedersachsen\, 30171
CATEGORIES:VolleyballSpiele Erwachsene (ohne Bu.-Liga/Dritte Liga)
ATTACH;FMTTYPE=image/jpeg:https://www.sf-aligse.de/wp-content/uploads/2021/09/Gallier-Logo_on-Tour_Fotor.jpg
END:VEVENT
BEGIN:VEVENT
DTSTART;TZID=Europe/Berlin:20240113T150000
DTEND;TZID=Europe/Berlin:20240113T193000
DTSTAMP:20260419T154016
CREATED:20231231T224033Z
LAST-MODIFIED:20231231T224033Z
UID:14281-1705158000-1705174200@www.sf-aligse.de
SUMMARY:Volleyball\, Bezirksklasse 2 Hannover (Männer): TB Stöcken 3  vs.  SF Aligse 5
DESCRIPTION:
URL:https://www.sf-aligse.de/event/volleyball-bezirksklasse-2-hannover-maenner-tb-stoecken-3-vs-sf-aligse-5/
LOCATION:Grundschule Stöcken\, Am Stöckener Bach 5\, Hannover\, Niedersachsen\, 30419\, Deutschland
CATEGORIES:VolleyballSpiele Erwachsene (ohne Bu.-Liga/Dritte Liga)
ATTACH;FMTTYPE=image/jpeg:https://www.sf-aligse.de/wp-content/uploads/2021/09/Gallier-Logo_on-Tour_Fotor.jpg
END:VEVENT
BEGIN:VEVENT
DTSTART;TZID=Europe/Berlin:20240113T150000
DTEND;TZID=Europe/Berlin:20240113T193000
DTSTAMP:20260419T154016
CREATED:20231231T225518Z
LAST-MODIFIED:20231231T225518Z
UID:14283-1705158000-1705174200@www.sf-aligse.de
SUMMARY:Volleyball\, Bezirksliga Hannover 2 (Männer): SF Aligse 3  vs.  SV Altencelle 2  u.  TSV Burgdorf 3
DESCRIPTION:
URL:https://www.sf-aligse.de/event/volleyball-bezirksliga-hannover-2-maenner-sf-aligse-3-vs-sv-altencelle-2-u-tsv-burgdorf-3/
LOCATION:SH Aligse\, Im Stegfeld 7\, Aligse\, Niedersachsen\, 31275\, Deutschland
CATEGORIES:VolleyballSpiele Erwachsene (ohne Bu.-Liga/Dritte Liga)
ATTACH;FMTTYPE=image/jpeg:https://www.sf-aligse.de/wp-content/uploads/2021/09/Gallier-Logo_Heimspiel_Fotor.jpg
END:VEVENT
BEGIN:VEVENT
DTSTART;TZID=Europe/Berlin:20240113T150000
DTEND;TZID=Europe/Berlin:20240113T193000
DTSTAMP:20260419T154016
CREATED:20231231T231855Z
LAST-MODIFIED:20231231T231855Z
UID:14287-1705158000-1705174200@www.sf-aligse.de
SUMMARY:Volleyball\, Landesliga 5 (Frauen): PSV Hannover 2  vs.  SF Aligse 1
DESCRIPTION:
URL:https://www.sf-aligse.de/event/volleyball-landesliga-5-frauen-psv-hannover-2-vs-sf-aligse-1/
LOCATION:Bereitschaftspolizei Hanover\, Tannenbergallee 11\, Hannover\, Niedersachsen\, 30163\, Deutschland
CATEGORIES:Spiele 1. Damen Volleyball
ATTACH;FMTTYPE=image/jpeg:https://www.sf-aligse.de/wp-content/uploads/2021/09/Gallier-Logo_on-Tour_Fotor.jpg
END:VEVENT
BEGIN:VEVENT
DTSTART;TZID=Europe/Berlin:20240113T200000
DTEND;TZID=Europe/Berlin:20240113T223000
DTSTAMP:20260419T154016
CREATED:20231231T233518Z
LAST-MODIFIED:20231231T233518Z
UID:14289-1705176000-1705185000@www.sf-aligse.de
SUMMARY:Volleyball\, Dritte Liga West Männer: SF Aligse  vs.  PTSV Aachen
DESCRIPTION:
URL:https://www.sf-aligse.de/event/volleyball-dritte-liga-west-maenner-sf-aligse-vs-ptsv-aachen/
LOCATION:SH Lehrte-Mitte (31275 Lehrte)\, Schlesische Straße 3\, Lehrte\, Niedersachsen\, 31275\, Deutschland
CATEGORIES:Spiele 1. Herren Volleyball
ATTACH;FMTTYPE=image/jpeg:https://www.sf-aligse.de/wp-content/uploads/2021/09/Gallier-Logo_Heimspiel_Fotor.jpg
END:VEVENT
BEGIN:VEVENT
DTSTART;TZID=Europe/Berlin:20240114T100000
DTEND;TZID=Europe/Berlin:20240114T140000
DTSTAMP:20260419T154016
CREATED:20231231T223004Z
LAST-MODIFIED:20231231T223004Z
UID:14277-1705226400-1705240800@www.sf-aligse.de
SUMMARY:Volleyball\, Regionsliga Hannover U13 Mixed I: SF Aligse vs. TB Stöcken\, TSV Krähenwinkel/Kaltenweide und GfL Hannover 2
DESCRIPTION:
URL:https://www.sf-aligse.de/event/volleyball-regionsliga-hannover-u13-mixed-i-sf-aligse-vs-tb-stoecken-tsv-kraehenwinkel-kaltenweide-und-gfl-hannover-2/
LOCATION:SH Aligse\, Im Stegfeld 7\, Aligse\, Niedersachsen\, 31275\, Deutschland
CATEGORIES:Spiele Jugendligen
ATTACH;FMTTYPE=image/jpeg:https://www.sf-aligse.de/wp-content/uploads/2022/03/Mikasa_200_Jugend.jpg
END:VEVENT
BEGIN:VEVENT
DTSTART;TZID=Europe/Berlin:20240117T200000
DTEND;TZID=Europe/Berlin:20240117T220000
DTSTAMP:20260419T154016
CREATED:20231231T210909Z
LAST-MODIFIED:20231231T210909Z
UID:14263-1705521600-1705528800@www.sf-aligse.de
SUMMARY:Volleyball\, Regions-Liga (FS) Männer D: TB Stöcken  vs.  SF Aligse Hobbies 2
DESCRIPTION:
URL:https://www.sf-aligse.de/event/volleyball-regions-liga-fs-maenner-d-tb-stoecken-vs-sf-aligse-hobbies-2/
LOCATION:TB Stöcken von 1896 e.V.\, Eichsfelder Str. 26\, Hannover\, Niedersachsen\, 30419\, Deutschland
CATEGORIES:Spiele FS-Ligen (Hobby)
ATTACH;FMTTYPE=image/jpeg:https://www.sf-aligse.de/wp-content/uploads/2021/09/Gallier-Logo_on-Tour_Fotor.jpg
END:VEVENT
BEGIN:VEVENT
DTSTART;TZID=Europe/Berlin:20240117T201500
DTEND;TZID=Europe/Berlin:20240117T220000
DTSTAMP:20260419T154016
CREATED:20231231T211619Z
LAST-MODIFIED:20231231T211619Z
UID:14267-1705522500-1705528800@www.sf-aligse.de
SUMMARY:Volleyball\, Regions-Liga (FS)\, Mixed L: SF Aligse Hobbies 1  vs.  SG HVV/GfL
DESCRIPTION:
URL:https://www.sf-aligse.de/event/volleyball-regions-liga-fs-mixed-l-sf-aligse-hobbies-1-vs-sg-hvv-gfl/
LOCATION:SH Aligse\, Im Stegfeld 7\, Aligse\, Niedersachsen\, 31275\, Deutschland
CATEGORIES:Spiele FS-Ligen (Hobby)
ATTACH;FMTTYPE=image/jpeg:https://www.sf-aligse.de/wp-content/uploads/2021/09/Gallier-Logo_Heimspiel_Fotor.jpg
END:VEVENT
BEGIN:VEVENT
DTSTART;TZID=Europe/Berlin:20240120T150000
DTEND;TZID=Europe/Berlin:20240120T163000
DTSTAMP:20260419T154016
CREATED:20240115T144829Z
LAST-MODIFIED:20240120T161537Z
UID:14360-1705762800-1705768200@www.sf-aligse.de
SUMMARY:Volleyball\, Bezirksliga Hannover 2 (Männer): TSV Krähenwinkel/Kaltenweide  vs.  SF Aligse 4
DESCRIPTION:
URL:https://www.sf-aligse.de/event/volleyball-bezirksliga-hannover-2-maenner-tsv-kraehenwinkel-kaltenweide-vs-sf-aligse-4/
LOCATION:Grundschule Kaltenweide\, Zellerie\, Langenhagen\, Niedersachsen\, 30855
CATEGORIES:VolleyballSpiele Erwachsene (ohne Bu.-Liga/Dritte Liga)
ATTACH;FMTTYPE=image/jpeg:https://www.sf-aligse.de/wp-content/uploads/2021/09/Gallier-Logo_on-Tour_Fotor.jpg
END:VEVENT
BEGIN:VEVENT
DTSTART;TZID=Europe/Berlin:20240120T150000
DTEND;TZID=Europe/Berlin:20240120T190000
DTSTAMP:20260419T154016
CREATED:20240115T144314Z
LAST-MODIFIED:20240115T144314Z
UID:14358-1705762800-1705777200@www.sf-aligse.de
SUMMARY:Volleyball\, Kreisliga 2 Hannover (Frauen): Grasdorf/Rethen Volleys 3  vs.  SF Aligse 4
DESCRIPTION:
URL:https://www.sf-aligse.de/event/volleyball-kreisliga-2-hannover-frauen-grasdorf-rethen-volleys-3-vs-sf-aligse-4/
LOCATION:KGS Laatzen (Albert-Einstein GS)\, Wülferoder Str. 46\, Laatzen\, Niedersachsen\, 30880\, Deutschland
CATEGORIES:VolleyballSpiele Erwachsene (ohne Bu.-Liga/Dritte Liga)
ATTACH;FMTTYPE=image/jpeg:https://www.sf-aligse.de/wp-content/uploads/2021/09/Gallier-Logo_on-Tour_Fotor.jpg
END:VEVENT
BEGIN:VEVENT
DTSTART;TZID=Europe/Berlin:20240120T193000
DTEND;TZID=Europe/Berlin:20240120T213000
DTSTAMP:20260419T154016
CREATED:20240115T145643Z
LAST-MODIFIED:20240115T145643Z
UID:14362-1705779000-1705786200@www.sf-aligse.de
SUMMARY:Volleyball\, Dritte Liga West Männer: TV Hörde  vs.  SF Aligse
DESCRIPTION:
URL:https://www.sf-aligse.de/event/volleyball-dritte-liga-west-maenner-tv-hoerde-vs-sf-aligse/
LOCATION:Phoenix-Gymnasium\, Seekante 12\, Dortmund\, Nordrhein-Westfalen\, 44263\, Deutschland
CATEGORIES:Spiele 1. Herren Volleyball
ATTACH;FMTTYPE=image/jpeg:https://www.sf-aligse.de/wp-content/uploads/2021/09/Gallier-Logo_on-Tour_Fotor.jpg
END:VEVENT
BEGIN:VEVENT
DTSTART;TZID=Europe/Berlin:20240121T100000
DTEND;TZID=Europe/Berlin:20240121T143000
DTSTAMP:20260419T154016
CREATED:20240115T143813Z
LAST-MODIFIED:20240115T143855Z
UID:14355-1705831200-1705847400@www.sf-aligse.de
SUMMARY:Volleyball\, Regionsliga Hannover U16/U18m ER II: Team Schaumburg\, TSV Burgdorf u. Grasdorf/Rethen Volleys  vs.  SF Aligse - in Burgdorf -
DESCRIPTION:
URL:https://www.sf-aligse.de/event/volleyball-regionsliga-hannover-u16-u18m-er-ii-team-schauburg-tsv-burgdorf-u-grasdorf-rethen-volleys-vs-sf-aligse-in-burgdorf/
LOCATION:IGS Burgdorf (große Halle)\, Vor dem Celler Tor 91\, Burgdorf\, Niedersachsen\, 31303
CATEGORIES:Spiele Jugendligen
ATTACH;FMTTYPE=image/jpeg:https://www.sf-aligse.de/wp-content/uploads/2022/03/Mikasa_200_Jugend.jpg
END:VEVENT
BEGIN:VEVENT
DTSTART;TZID=Europe/Berlin:20240121T100000
DTEND;TZID=Europe/Berlin:20240121T153000
DTSTAMP:20260419T154016
CREATED:20240115T151451Z
LAST-MODIFIED:20240121T145414Z
UID:14366-1705831200-1705851000@www.sf-aligse.de
SUMMARY:Volleyball\, U13m Bezirksmeisterschaft (= Qualifikation zur Nordwestdeutschen Meisterschaft) – in Aligse –
DESCRIPTION:Es spielen um die Bezirksmeisterschaft: SF Aligse\, GfL Hannover\, MTV SG Borsum/Harsum/Achtum\, TK Hannover und VSG Düngen/Holle/Bodenburg
URL:https://www.sf-aligse.de/event/volleyball-u13m-bezirksmeisterschaft-qualifikation-zur-nordwestdeutschen-meisterschaft-in-aligse/
LOCATION:SH Aligse\, Im Stegfeld 7\, Aligse\, Niedersachsen\, 31275\, Deutschland
CATEGORIES:Jugendmeisterschaft
ATTACH;FMTTYPE=image/jpeg:https://www.sf-aligse.de/wp-content/uploads/2022/03/Mikasa_200_Jugend.jpg
END:VEVENT
BEGIN:VEVENT
DTSTART;TZID=Europe/Berlin:20240121T100000
DTEND;TZID=Europe/Berlin:20240121T160000
DTSTAMP:20260419T154016
CREATED:20240115T150928Z
LAST-MODIFIED:20240121T145509Z
UID:14364-1705831200-1705852800@www.sf-aligse.de
SUMMARY:Volleyball\, U13w Bezirksmeisterschaft (= Qualifikation zur Nordwestdeutschen Meisterschaft) – in Bad Pyrmont –
DESCRIPTION:Es spielen um die Bezirksmeisterschaft: SF Aligse\, TC Hameln\, GfL Hannover 1\, GfL Hannover 2\, Weserbergland Volleys und MTV Bad Pyrmont
URL:https://www.sf-aligse.de/event/volleyball-u13w-bezirksmeisterschaft-qualifikation-zur-nordwestdeutschen-meisterschaft-in-bad-pyrmont/
LOCATION:SH Bahnhofstraße\, Bahnhofstr.\, Bad Pyrmont\, Niedersachsen\, 31812\, Deutschland
CATEGORIES:Jugendmeisterschaft
ATTACH;FMTTYPE=image/jpeg:https://www.sf-aligse.de/wp-content/uploads/2022/03/Mikasa_200_Jugend.jpg
END:VEVENT
END:VCALENDAR