BEGIN:VCALENDAR
VERSION:2.0
PRODID:-//Sportfreunde Aligse von 1930 e.V. - ECPv6.15.20//NONSGML v1.0//EN
CALSCALE:GREGORIAN
METHOD:PUBLISH
X-ORIGINAL-URL:https://www.sf-aligse.de
X-WR-CALDESC:Veranstaltungen für Sportfreunde Aligse von 1930 e.V.
REFRESH-INTERVAL;VALUE=DURATION:PT1H
X-Robots-Tag:noindex
X-PUBLISHED-TTL:PT1H
BEGIN:VTIMEZONE
TZID:Europe/Berlin
BEGIN:DAYLIGHT
TZOFFSETFROM:+0100
TZOFFSETTO:+0200
TZNAME:CEST
DTSTART:20240331T010000
END:DAYLIGHT
BEGIN:STANDARD
TZOFFSETFROM:+0200
TZOFFSETTO:+0100
TZNAME:CET
DTSTART:20241027T010000
END:STANDARD
BEGIN:DAYLIGHT
TZOFFSETFROM:+0100
TZOFFSETTO:+0200
TZNAME:CEST
DTSTART:20250330T010000
END:DAYLIGHT
BEGIN:STANDARD
TZOFFSETFROM:+0200
TZOFFSETTO:+0100
TZNAME:CET
DTSTART:20251026T010000
END:STANDARD
BEGIN:DAYLIGHT
TZOFFSETFROM:+0100
TZOFFSETTO:+0200
TZNAME:CEST
DTSTART:20260329T010000
END:DAYLIGHT
BEGIN:STANDARD
TZOFFSETFROM:+0200
TZOFFSETTO:+0100
TZNAME:CET
DTSTART:20261025T010000
END:STANDARD
BEGIN:DAYLIGHT
TZOFFSETFROM:+0100
TZOFFSETTO:+0200
TZNAME:CEST
DTSTART:20270328T010000
END:DAYLIGHT
BEGIN:STANDARD
TZOFFSETFROM:+0200
TZOFFSETTO:+0100
TZNAME:CET
DTSTART:20271031T010000
END:STANDARD
END:VTIMEZONE
BEGIN:VEVENT
DTSTART;TZID=Europe/Berlin:20260117T150000
DTEND;TZID=Europe/Berlin:20260117T150100
DTSTAMP:20260421T211226
CREATED:20260114T162320Z
LAST-MODIFIED:20260117T144309Z
UID:17295-1768662000-1768662060@www.sf-aligse.de
SUMMARY:Voba: Kreisliga 4 RegV Hannover (Frauen)  -  SF Aligse 5  vs.  TSV Clauen/Soßmar  und  MTV SG Borsum Harsum Achtum III  - SPIELVERLEGUNG\, WIRD NEU ANGESETZT!
DESCRIPTION:
URL:https://www.sf-aligse.de/event/voba-kreisliga-4-regv-hannover-frauen-sf-aligse-5-vs-tsv-clauen-sossmar-und-mtv-sg-borsum-harsum-achtum-iii/
LOCATION:Grundschule Aligse\, Im Stegefeld 14\, Lehrte-Aligse\, 31275
CATEGORIES:VolleyballSpiele Erwachsene (ohne Bu.-Liga/Dritte Liga)
END:VEVENT
BEGIN:VEVENT
DTSTART;TZID=Europe/Berlin:20260114T201500
DTEND;TZID=Europe/Berlin:20260114T220000
DTSTAMP:20260421T211226
CREATED:20260104T233247Z
LAST-MODIFIED:20260104T233247Z
UID:17260-1768421700-1768428000@www.sf-aligse.de
SUMMARY:Voba: Regions-Liga (FS)\, Mixed L  -  SF Aligse Hobby 1  vs.  TSV Kleinburgwedel
DESCRIPTION:
URL:https://www.sf-aligse.de/event/voba-regions-liga-fs-mixed-l-sf-aligse-hobby-1-vs-tsv-kleinburgwedel/
LOCATION:Grundschule Aligse\, Im Stegefeld 14\, Lehrte-Aligse\, 31275
CATEGORIES:Spiele FS-Ligen (Hobby)
END:VEVENT
BEGIN:VEVENT
DTSTART;TZID=Europe/Berlin:20260111T100000
DTEND;TZID=Europe/Berlin:20260111T123000
DTSTAMP:20260421T211226
CREATED:20260104T232517Z
LAST-MODIFIED:20260111T143931Z
UID:17256-1768125600-1768134600@www.sf-aligse.de
SUMMARY:Voba: Landesliga 5 (Männer)  -  TK Hannover 4  vs.  SF Aligse 2   - WETTERBEDINGT VERSCHOBEN!
DESCRIPTION:
URL:https://www.sf-aligse.de/event/voba-landesliga-5-maenner-tk-hannover-4-vs-sf-aligse-2/
LOCATION:Otfried-Preussler-Schule\, Birkenstr. 12\, Hannover\, Niedersachsen\, 30171
CATEGORIES:VolleyballSpiele Erwachsene (ohne Bu.-Liga/Dritte Liga)
END:VEVENT
BEGIN:VEVENT
DTSTART;TZID=Europe/Berlin:20260110T190000
DTEND;TZID=Europe/Berlin:20260110T213000
DTSTAMP:20260421T211226
CREATED:20260104T232106Z
LAST-MODIFIED:20260111T144034Z
UID:17254-1768071600-1768080600@www.sf-aligse.de
SUMMARY:Voba: 2. Bundesliga Nord Männer  -  Münster Volleys  vs.  America Unlimited Volleys Aligse  - WETTERBEDINGT VERSCHOBEN!
DESCRIPTION:
URL:https://www.sf-aligse.de/event/voba-2-bundesliga-nord-maenner-muenster-volleys-vs-america-unlimited-volleys-aligse-2/
LOCATION:Universitätssporthalle Münster\, Horstmarer Landweg 51\, Münster\, Nordrhein-Westfalen\, 48149\, Germany
CATEGORIES:Spiele 1. Herren Volleyball
END:VEVENT
BEGIN:VEVENT
DTSTART;TZID=Europe/Berlin:20260107T193000
DTEND;TZID=Europe/Berlin:20260107T220000
DTSTAMP:20260421T211226
CREATED:20260104T232928Z
LAST-MODIFIED:20260104T232928Z
UID:17258-1767814200-1767823200@www.sf-aligse.de
SUMMARY:Voba: Regions-Liga (FS) Männer D  -  SF Aligse Hobby 2  vs.  TK Berenbostel
DESCRIPTION:
URL:https://www.sf-aligse.de/event/voba-regions-liga-fs-maenner-d-sf-aligse-hobby-2-vs-tk-berenbostel/
LOCATION:Schulzentrum Lehrte-Ost\, Riedweg 12\, Lehrte (OT Hämelerwald)\, Niedersachsen\, 31275\, Deutschland
CATEGORIES:Spiele FS-Ligen (Hobby)
END:VEVENT
BEGIN:VEVENT
DTSTART;TZID=Europe/Berlin:20251220T200000
DTEND;TZID=Europe/Berlin:20251220T223000
DTSTAMP:20260421T211226
CREATED:20251216T214306Z
LAST-MODIFIED:20251216T214306Z
UID:17228-1766260800-1766269800@www.sf-aligse.de
SUMMARY:Voba: 2. Bundesliga Nord Männer  -  America Unlimited Volleys Aligse  vs.  Moerser SC
DESCRIPTION:
URL:https://www.sf-aligse.de/event/voba-2-bundesliga-nord-maenner-america-unlimited-volleys-aligse-vs-moerser-sc/
LOCATION:SH Lehrte-Mitte (31275 Lehrte)\, Schlesische Straße 3\, Lehrte\, Niedersachsen\, 31275\, Deutschland
CATEGORIES:Spiele 1. Herren Volleyball
END:VEVENT
BEGIN:VEVENT
DTSTART;TZID=Europe/Berlin:20251215T200000
DTEND;TZID=Europe/Berlin:20251215T220000
DTSTAMP:20260421T211226
CREATED:20251207T144607Z
LAST-MODIFIED:20251207T144607Z
UID:17160-1765828800-1765836000@www.sf-aligse.de
SUMMARY:Voba: Regions-Liga (FS) Männer D - TSV Schneeren  vs.  SF Aligse Hobbies 2
DESCRIPTION:
URL:https://www.sf-aligse.de/event/voba-regions-liga-fs-maenner-d-tsv-schneeren-vs-sf-aligse-hobbies-2/
LOCATION:Schule am Ahnsförth\, Ahnsförth 17\, Neustadt\, Niedersachsen\, 31535\, Germany
CATEGORIES:Spiele FS-Ligen (Hobby)
END:VEVENT
BEGIN:VEVENT
DTSTART;TZID=Europe/Berlin:20251214T130000
DTEND;TZID=Europe/Berlin:20251214T160000
DTSTAMP:20260421T211226
CREATED:20251210T190005Z
LAST-MODIFIED:20251214T150003Z
UID:17186-1765717200-1765728000@www.sf-aligse.de
SUMMARY:Voba: Bezirksklasse 5 RegV Hannover (Frauen)  -  VfL Westercelle 2  vs.  SF Aligse 4
DESCRIPTION:
URL:https://www.sf-aligse.de/event/voba-bezirksklasse-5-regv-hannover-frauen-vfl-westercelle-2-vs-sf-aligse-4/
LOCATION:SZ Burgstraße (Burghalle)\, Burgstr. 21\, Celle\, Niedersachsen\, 29221\, Deutschland
CATEGORIES:VolleyballSpiele Erwachsene (ohne Bu.-Liga/Dritte Liga)
END:VEVENT
BEGIN:VEVENT
DTSTART;TZID=Europe/Berlin:20251214T110000
DTEND;TZID=Europe/Berlin:20251214T150000
DTSTAMP:20260421T211226
CREATED:20251210T185646Z
LAST-MODIFIED:20251210T185646Z
UID:17184-1765710000-1765724400@www.sf-aligse.de
SUMMARY:Voba: Kreisliga 4 RegV Hannover (Frauen)  -  TSV Clauen/Soßmar  vs.  SF Aligse 5
DESCRIPTION:
URL:https://www.sf-aligse.de/event/voba-kreisliga-4-regv-hannover-frauen-tsv-clauen-sossmar-vs-sf-aligse-5-2/
LOCATION:Kreissporthalle Hohenhameln\, Am Schulzentrum 3\, Hohenhameln\, Niedersachsen\, 31249\, Deutschland
CATEGORIES:VolleyballSpiele Erwachsene (ohne Bu.-Liga/Dritte Liga)
END:VEVENT
BEGIN:VEVENT
DTSTART;TZID=Europe/Berlin:20251214T100000
DTEND;TZID=Europe/Berlin:20251214T140000
DTSTAMP:20260421T211226
CREATED:20251210T185257Z
LAST-MODIFIED:20251210T185257Z
UID:17182-1765706400-1765720800@www.sf-aligse.de
SUMMARY:Voba: Regionsliga Hannover U14m I  -  SF Aligse 1 und 2  vs.  SV Nienhagen\, TSV Burgdorf und SSV Südwinsen (Spieltag in Aligse)
DESCRIPTION:
URL:https://www.sf-aligse.de/event/voba-regionsliga-hannover-u14m-i-sf-aligse-1-und-2-vs-sv-nienhagen-tsv-burgdorf-und-ssv-suedwinsen-spieltag-in-aligse/
LOCATION:Grundschule Aligse\, Im Stegefeld 14\, Lehrte-Aligse\, 31275
CATEGORIES:Spiele Jugendligen
END:VEVENT
BEGIN:VEVENT
DTSTART;TZID=Europe/Berlin:20251213T200000
DTEND;TZID=Europe/Berlin:20251213T214500
DTSTAMP:20260421T211226
CREATED:20251210T182422Z
LAST-MODIFIED:20251213T204023Z
UID:17180-1765656000-1765662300@www.sf-aligse.de
SUMMARY:Voba: 2. Bundesliga Nord Männer  -  America Unlimited Volleys Aligse  vs.  Kieler TV
DESCRIPTION:
URL:https://www.sf-aligse.de/event/voba-2-bundesliga-nord-maenner-america-unlimited-volleys-aligse-vs-kieler-tv-2/
LOCATION:SH Lehrte-Mitte (31275 Lehrte)\, Schlesische Straße 3\, Lehrte\, Niedersachsen\, 31275\, Deutschland
CATEGORIES:Spiele 1. Herren Volleyball
END:VEVENT
BEGIN:VEVENT
DTSTART;TZID=Europe/Berlin:20251213T150000
DTEND;TZID=Europe/Berlin:20251213T173000
DTSTAMP:20260421T211226
CREATED:20251210T181815Z
LAST-MODIFIED:20251213T163237Z
UID:17176-1765638000-1765647000@www.sf-aligse.de
SUMMARY:Voba: Landesliga 5 (Männer)  -  TSV Burgdorf 2  vs.  SF Aligse 2
DESCRIPTION:
URL:https://www.sf-aligse.de/event/voba-landesliga-5-maenner-tsv-burgdorf-2-vs-sf-aligse-2/
LOCATION:IGS Burgdorf (große Halle)\, Vor dem Celler Tor 91\, Burgdorf\, Niedersachsen\, 31303
CATEGORIES:VolleyballSpiele Erwachsene (ohne Bu.-Liga/Dritte Liga)
END:VEVENT
BEGIN:VEVENT
DTSTART;TZID=Europe/Berlin:20251213T150000
DTEND;TZID=Europe/Berlin:20251213T171500
DTSTAMP:20260421T211226
CREATED:20251210T181444Z
LAST-MODIFIED:20251213T162032Z
UID:17174-1765638000-1765646100@www.sf-aligse.de
SUMMARY:Voba: Bezirksliga 3 RegV Hannover (Männer)  -  TuS Lachendorf 2  vs.  SF Aligse 3
DESCRIPTION:
URL:https://www.sf-aligse.de/event/voba-bezirksliga-3-regv-hannover-maenner-tus-lachendorf-2-vs-sf-aligse-3/
LOCATION:Oberschule Lachendorf\, Am Südfeld\, Lachendorf\, Niedersachsen\, 29331
CATEGORIES:VolleyballSpiele Erwachsene (ohne Bu.-Liga/Dritte Liga)
END:VEVENT
BEGIN:VEVENT
DTSTART;TZID=Europe/Berlin:20251213T150000
DTEND;TZID=Europe/Berlin:20251213T170000
DTSTAMP:20260421T211226
CREATED:20251210T182157Z
LAST-MODIFIED:20251213T160020Z
UID:17178-1765638000-1765645200@www.sf-aligse.de
SUMMARY:Voba: Verbandsliga 4 (Frauen)  -  SG Heide Volleys  vs.  SF Aligse 1
DESCRIPTION:
URL:https://www.sf-aligse.de/event/voba-verbandsliga-4-frauen-sg-heide-volleys-vs-sf-aligse-1/
LOCATION:Apollonia Oberschule\, Ebstorfer Straße 1\, Uelzen\, Niedersachsen\, 29525\, Germany
CATEGORIES:Spiele 1. Damen Volleyball
END:VEVENT
BEGIN:VEVENT
DTSTART;TZID=Europe/Berlin:20251213T150000
DTEND;TZID=Europe/Berlin:20251213T170000
DTSTAMP:20260421T211226
CREATED:20251210T181014Z
LAST-MODIFIED:20251213T160109Z
UID:17166-1765638000-1765645200@www.sf-aligse.de
SUMMARY:Voba: Bezirksklasse 5 RegV Hannover (Frauen)  -  SV Hambühren  vs.  SF Aligse 3
DESCRIPTION:
URL:https://www.sf-aligse.de/event/voba_-bezirksklasse-5-regv-hannover-frauen-sv-hambuehren-vs-sf-aligse-3/
LOCATION:HRS Hambühren\, Versonstr. 4\, Hambühren\, Niedersachsen\, 29313\, Germany
CATEGORIES:VolleyballSpiele Erwachsene (ohne Bu.-Liga/Dritte Liga)
END:VEVENT
BEGIN:VEVENT
DTSTART;TZID=Europe/Berlin:20251210T193000
DTEND;TZID=Europe/Berlin:20251210T213000
DTSTAMP:20260421T211226
CREATED:20251207T143900Z
LAST-MODIFIED:20251207T143900Z
UID:17158-1765395000-1765402200@www.sf-aligse.de
SUMMARY:Voba: Regions-Liga (FS) Männer D - SF Aligse Hobbies 2  vs.  Lehrter SV II
DESCRIPTION:
URL:https://www.sf-aligse.de/event/voba-regions-liga-fs-maenner-d-sf-aligse-hobbies-2-vs-lehrter-sv-ii/
LOCATION:Schulzentrum Lehrte-Ost\, Riedweg 12\, Lehrte (OT Hämelerwald)\, Niedersachsen\, 31275\, Deutschland
CATEGORIES:Spiele FS-Ligen (Hobby)
END:VEVENT
BEGIN:VEVENT
DTSTART;TZID=Europe/Berlin:20251207T100000
DTEND;TZID=Europe/Berlin:20251207T140000
DTSTAMP:20260421T211226
CREATED:20251130T144538Z
LAST-MODIFIED:20251130T144538Z
UID:17124-1765101600-1765116000@www.sf-aligse.de
SUMMARY:Voba: Regionsliga Hannover U13 Mixed II  -  RSV Seelze  und  GfL Hannover  vs. SF Aligse (Spieltag in Hannover)
DESCRIPTION:
URL:https://www.sf-aligse.de/event/voba-regionsliga-hannover-u13-mixed-ii-rsv-seelze-und-gfl-hannover-vs-sf-aligse-spieltag-in-hannover/
LOCATION:Freie Waldorfschule Hannover (Neue Halle)\, Rudolf-von-Bennigsen-Ufer 70\, Hannover\, 30173\, Deutschland
CATEGORIES:Spiele Jugendligen
END:VEVENT
BEGIN:VEVENT
DTSTART;TZID=Europe/Berlin:20251206T200000
DTEND;TZID=Europe/Berlin:20251206T223000
DTSTAMP:20260421T211226
CREATED:20251130T143753Z
LAST-MODIFIED:20251130T143812Z
UID:17121-1765051200-1765060200@www.sf-aligse.de
SUMMARY:Voba: 2. Bundesliga Nord Männer  -  America Unlimited Volleys Aligse  vs.  TSV Giesen GRIZZLYS 2
DESCRIPTION:
URL:https://www.sf-aligse.de/event/voba-2-bindesliga-nord-maenner-america-unlimited-volleys-aligse-vs-tsv-giesen-grizzlys-2/
LOCATION:SH Lehrte-Mitte (31275 Lehrte)\, Schlesische Straße 3\, Lehrte\, Niedersachsen\, 31275\, Deutschland
CATEGORIES:Spiele 1. Herren Volleyball
END:VEVENT
BEGIN:VEVENT
DTSTART;TZID=Europe/Berlin:20251206T150000
DTEND;TZID=Europe/Berlin:20251206T190000
DTSTAMP:20260421T211226
CREATED:20251130T143508Z
LAST-MODIFIED:20251130T143508Z
UID:17119-1765033200-1765047600@www.sf-aligse.de
SUMMARY:Voba: Bezirksliga 3 RegV Hannover (Männer)  -  SF Aligse 3  vs.  SV Nienhagen  und  MTV Ilten
DESCRIPTION:
URL:https://www.sf-aligse.de/event/voba-bezirksliga-3-regv-hannover-maenner-sf-aligse-3-vs-sv-nienhagen-und-mtv-ilten/
LOCATION:Grundschule Aligse\, Im Stegefeld 14\, Lehrte-Aligse\, 31275
CATEGORIES:VolleyballSpiele Erwachsene (ohne Bu.-Liga/Dritte Liga)
END:VEVENT
BEGIN:VEVENT
DTSTART;TZID=Europe/Berlin:20251206T150000
DTEND;TZID=Europe/Berlin:20251206T190000
DTSTAMP:20260421T211226
CREATED:20251130T142948Z
LAST-MODIFIED:20251130T142948Z
UID:17117-1765033200-1765047600@www.sf-aligse.de
SUMMARY:Voba: Bezirksklasse 5 RegV Hannover (Frauen)  -  TSV Burgdorf 3  vs.  SF Aligse 4
DESCRIPTION:
URL:https://www.sf-aligse.de/event/voba-bezirksklasse-5-regv-hannover-frauen-tsv-burgdorf-3-vs-sf-aligse-4/
LOCATION:IGS Burgdorf (große Halle)\, Vor dem Celler Tor 91\, Burgdorf\, Niedersachsen\, 31303
CATEGORIES:VolleyballSpiele Erwachsene (ohne Bu.-Liga/Dritte Liga)
END:VEVENT
BEGIN:VEVENT
DTSTART;TZID=Europe/Berlin:20251206T150000
DTEND;TZID=Europe/Berlin:20251206T190000
DTSTAMP:20260421T211226
CREATED:20251130T142605Z
LAST-MODIFIED:20251130T142605Z
UID:17113-1765033200-1765047600@www.sf-aligse.de
SUMMARY:Voba: Landesliga 5 (Frauen)  -  Weserbergland Volleys  vs.  SF Aligse 2
DESCRIPTION:
URL:https://www.sf-aligse.de/event/voba-landesliga-5-frauen-weserbergland-volleys-vs-sf-aligse-2/
LOCATION:Sporthalle Klein Berkel\, Schulstr. 5\, Hameln\, Niedersachsen\, 31789\, Germany
CATEGORIES:VolleyballSpiele Erwachsene (ohne Bu.-Liga/Dritte Liga)
END:VEVENT
BEGIN:VEVENT
DTSTART;TZID=Europe/Berlin:20251203T201500
DTEND;TZID=Europe/Berlin:20251203T220000
DTSTAMP:20260421T211226
CREATED:20251126T193621Z
LAST-MODIFIED:20251126T193621Z
UID:17080-1764792900-1764799200@www.sf-aligse.de
SUMMARY:Voba: Regions-Liga (FS)\, Mixed L  -  SF Aligse Hobbies 1  vs.  GfL Hannover 2
DESCRIPTION:
URL:https://www.sf-aligse.de/event/voba-regions-liga-fs-mixed-l-sf-aligse-hobbies-1-vs-gfl-hannover-2/
LOCATION:Grundschule Aligse\, Im Stegefeld 14\, Lehrte-Aligse\, 31275
CATEGORIES:Spiele FS-Ligen (Hobby)
END:VEVENT
BEGIN:VEVENT
DTSTART;TZID=Europe/Berlin:20251130T100000
DTEND;TZID=Europe/Berlin:20251130T153000
DTSTAMP:20260421T211226
CREATED:20251126T195038Z
LAST-MODIFIED:20251130T140757Z
UID:17084-1764496800-1764516600@www.sf-aligse.de
SUMMARY:Voba: Jugendmeisterschaften – Bereichs-Qualifikation U18 männl. – Turnier 2 (in Hameln)
DESCRIPTION:SF Aligse spielt in der Vorrundengruppe A gegen Tecklenburger Land Volleys und  VfL Kloster Oesede
URL:https://www.sf-aligse.de/event/voba-jugendmeisterschaften-bereichs-qualifikation-u18-maennl-turnier-2-in-hameln/
LOCATION:SH Hameln-West\, Breslauer Allee 55\, Hameln\, Niedersachsen\, 31785\, Deutschland
CATEGORIES:Jugendmeisterschaft
END:VEVENT
BEGIN:VEVENT
DTSTART;TZID=Europe/Berlin:20251130T100000
DTEND;TZID=Europe/Berlin:20251130T153000
DTSTAMP:20260421T211226
CREATED:20251126T194532Z
LAST-MODIFIED:20251130T141009Z
UID:17082-1764496800-1764516600@www.sf-aligse.de
SUMMARY:Voba: Jugendmeisterschaften – Bereichs-Qualifikation U14 männl. – Turnier 1 (in Lüneburg)
DESCRIPTION:
URL:https://www.sf-aligse.de/event/voba-jugendmeisterschaften-bereichs-qualifikation-u14-maennl-turnier-1-in-lueneburg/
LOCATION:Sporthalle Kaltenmoor I\, Theodor-Heuss-Str. 28\, Lüneburg\, Niedersachsen\, 21337
CATEGORIES:Jugendmeisterschaft
END:VEVENT
BEGIN:VEVENT
DTSTART;TZID=Europe/Berlin:20251129T200000
DTEND;TZID=Europe/Berlin:20251129T223000
DTSTAMP:20260421T211226
CREATED:20251126T195725Z
LAST-MODIFIED:20251126T195725Z
UID:17086-1764446400-1764455400@www.sf-aligse.de
SUMMARY:Voba: 2. Bundesliga Nord Männer  -  America Unlimited Volleys Aligse  vs.  PSV Neustrelitz
DESCRIPTION:
URL:https://www.sf-aligse.de/event/voba-2-bundesliga-nord-maenner-america-unlimited-volleys-aligse-vs-psv-neustrelitz-2/
LOCATION:SH Lehrte-Mitte (31275 Lehrte)\, Schlesische Straße 3\, Lehrte\, Niedersachsen\, 31275\, Deutschland
CATEGORIES:Spiele 1. Herren Volleyball
END:VEVENT
BEGIN:VEVENT
DTSTART;TZID=Europe/Berlin:20251128T191500
DTEND;TZID=Europe/Berlin:20251128T220000
DTSTAMP:20260421T211226
CREATED:20251126T193226Z
LAST-MODIFIED:20251126T193226Z
UID:17078-1764357300-1764367200@www.sf-aligse.de
SUMMARY:Voba: Regions-Liga (FS) Männer D  -  TSV Krähenwinkel-Kaltenweide  vs.  SF Aligse Hobbies 2
DESCRIPTION:
URL:https://www.sf-aligse.de/event/voba-regions-liga-fs-maenner-d-tsv-kraehenwinkel-kaltenweide-vs-sf-aligse-hobbies-2/
LOCATION:Grundschule Krähenwinkel\, Wiesenstr.\, Langenhagen OT Krähenwinkel\, Niedersachsen\, 30855\, Germany
CATEGORIES:Spiele FS-Ligen (Hobby)
END:VEVENT
BEGIN:VEVENT
DTSTART;TZID=Europe/Berlin:20251123T120000
DTEND;TZID=Europe/Berlin:20251123T163000
DTSTAMP:20260421T211226
CREATED:20251119T184637Z
LAST-MODIFIED:20251119T184637Z
UID:17040-1763899200-1763915400@www.sf-aligse.de
SUMMARY:Voba: Verbandsliga 4 (Frauen) - SC Langenhagen  vs.  SF Aligse 1
DESCRIPTION:
URL:https://www.sf-aligse.de/event/voba-verbandsliga-4-frauen-sc-langenhagen-vs-sf-aligse-1/
LOCATION:SCL-Halle\, Leibnizstr. 50\, Langenhagen\, Niedersachsen\, 30851\, Deutschland
CATEGORIES:Spiele 1. Damen Volleyball
END:VEVENT
BEGIN:VEVENT
DTSTART;TZID=Europe/Berlin:20251123T110000
DTEND;TZID=Europe/Berlin:20251123T153000
DTSTAMP:20260421T211226
CREATED:20251119T183936Z
LAST-MODIFIED:20251119T183936Z
UID:17036-1763895600-1763911800@www.sf-aligse.de
SUMMARY:Voba: Landesliga 5 (Frauen) - SF Aligse 2  vs.  GfL Hannover 4  und  TB Stöcken
DESCRIPTION:
URL:https://www.sf-aligse.de/event/voba-landesliga-5-frauen-sf-aligse-2-vs-gfl-hannover-4-und-tb-stoecken/
LOCATION:Sporthalle Friedrichstraße\, Friedrichstraße 9A\, Lehrte\, Niedersachsen\, 31275\, Deutschland
CATEGORIES:VolleyballSpiele Erwachsene (ohne Bu.-Liga/Dritte Liga)
END:VEVENT
BEGIN:VEVENT
DTSTART;TZID=Europe/Berlin:20251123T110000
DTEND;TZID=Europe/Berlin:20251123T150000
DTSTAMP:20260421T211226
CREATED:20251119T183409Z
LAST-MODIFIED:20251119T183624Z
UID:17032-1763895600-1763910000@www.sf-aligse.de
SUMMARY:Voba: Kreisliga 4 RegV Hannover (Frauen) - SV Blau-Weiß Neuhof  vs.  SF Aligse 5
DESCRIPTION:
URL:https://www.sf-aligse.de/event/voba_-kreisliga-4-regv-hannover-frauen-sv-blau-weiss-neuhof-vs-sf-aligse-5/
LOCATION:Sporthalle Neuhof\, Klingenbergstr. 57\, Hildesheim\, Niedersachsen\, 31139\, Germany
CATEGORIES:VolleyballSpiele Erwachsene (ohne Bu.-Liga/Dritte Liga)
END:VEVENT
BEGIN:VEVENT
DTSTART;TZID=Europe/Berlin:20251123T100000
DTEND;TZID=Europe/Berlin:20251123T170000
DTSTAMP:20260421T211226
CREATED:20251119T185323Z
LAST-MODIFIED:20251119T185323Z
UID:17043-1763892000-1763917200@www.sf-aligse.de
SUMMARY:Voba: Jugendmeisterschaften – Bereichs-Qualifikation U13 weibl. – Turnier 2 (in Bad Pyrmont)
DESCRIPTION:SF Aligse spielt zusammen mit MTV Bad Pyrmont und SV Nienhagen in deer Vorrundengruppe B
URL:https://www.sf-aligse.de/event/voba-jugendmeisterschaften-bereichs-qualifikation-u13-weibl-turnier-2-in-bad-pyrmont/
LOCATION:SH Bahnhofstraße\, Bahnhofstr.\, Bad Pyrmont\, Niedersachsen\, 31812\, Deutschland
CATEGORIES:Jugendmeisterschaft
END:VEVENT
END:VCALENDAR