BEGIN:VCALENDAR
VERSION:2.0
PRODID:-//Sportfreunde Aligse von 1930 e.V. - ECPv6.15.20//NONSGML v1.0//EN
CALSCALE:GREGORIAN
METHOD:PUBLISH
X-ORIGINAL-URL:https://www.sf-aligse.de
X-WR-CALDESC:Veranstaltungen für Sportfreunde Aligse von 1930 e.V.
REFRESH-INTERVAL;VALUE=DURATION:PT1H
X-Robots-Tag:noindex
X-PUBLISHED-TTL:PT1H
BEGIN:VTIMEZONE
TZID:Europe/Berlin
BEGIN:DAYLIGHT
TZOFFSETFROM:+0100
TZOFFSETTO:+0200
TZNAME:CEST
DTSTART:20240331T010000
END:DAYLIGHT
BEGIN:STANDARD
TZOFFSETFROM:+0200
TZOFFSETTO:+0100
TZNAME:CET
DTSTART:20241027T010000
END:STANDARD
BEGIN:DAYLIGHT
TZOFFSETFROM:+0100
TZOFFSETTO:+0200
TZNAME:CEST
DTSTART:20250330T010000
END:DAYLIGHT
BEGIN:STANDARD
TZOFFSETFROM:+0200
TZOFFSETTO:+0100
TZNAME:CET
DTSTART:20251026T010000
END:STANDARD
BEGIN:DAYLIGHT
TZOFFSETFROM:+0100
TZOFFSETTO:+0200
TZNAME:CEST
DTSTART:20260329T010000
END:DAYLIGHT
BEGIN:STANDARD
TZOFFSETFROM:+0200
TZOFFSETTO:+0100
TZNAME:CET
DTSTART:20261025T010000
END:STANDARD
END:VTIMEZONE
BEGIN:VEVENT
DTSTART;TZID=Europe/Berlin:20251206T150000
DTEND;TZID=Europe/Berlin:20251206T190000
DTSTAMP:20260422T003639
CREATED:20251130T142605Z
LAST-MODIFIED:20251130T142605Z
UID:17113-1765033200-1765047600@www.sf-aligse.de
SUMMARY:Voba: Landesliga 5 (Frauen)  -  Weserbergland Volleys  vs.  SF Aligse 2
DESCRIPTION:
URL:https://www.sf-aligse.de/event/voba-landesliga-5-frauen-weserbergland-volleys-vs-sf-aligse-2/
LOCATION:Sporthalle Klein Berkel\, Schulstr. 5\, Hameln\, Niedersachsen\, 31789\, Germany
CATEGORIES:VolleyballSpiele Erwachsene (ohne Bu.-Liga/Dritte Liga)
END:VEVENT
BEGIN:VEVENT
DTSTART;TZID=Europe/Berlin:20251203T201500
DTEND;TZID=Europe/Berlin:20251203T220000
DTSTAMP:20260422T003639
CREATED:20251126T193621Z
LAST-MODIFIED:20251126T193621Z
UID:17080-1764792900-1764799200@www.sf-aligse.de
SUMMARY:Voba: Regions-Liga (FS)\, Mixed L  -  SF Aligse Hobbies 1  vs.  GfL Hannover 2
DESCRIPTION:
URL:https://www.sf-aligse.de/event/voba-regions-liga-fs-mixed-l-sf-aligse-hobbies-1-vs-gfl-hannover-2/
LOCATION:Grundschule Aligse\, Im Stegefeld 14\, Lehrte-Aligse\, 31275
CATEGORIES:Spiele FS-Ligen (Hobby)
END:VEVENT
BEGIN:VEVENT
DTSTART;TZID=Europe/Berlin:20251130T100000
DTEND;TZID=Europe/Berlin:20251130T153000
DTSTAMP:20260422T003639
CREATED:20251126T195038Z
LAST-MODIFIED:20251130T140757Z
UID:17084-1764496800-1764516600@www.sf-aligse.de
SUMMARY:Voba: Jugendmeisterschaften – Bereichs-Qualifikation U18 männl. – Turnier 2 (in Hameln)
DESCRIPTION:SF Aligse spielt in der Vorrundengruppe A gegen Tecklenburger Land Volleys und  VfL Kloster Oesede
URL:https://www.sf-aligse.de/event/voba-jugendmeisterschaften-bereichs-qualifikation-u18-maennl-turnier-2-in-hameln/
LOCATION:SH Hameln-West\, Breslauer Allee 55\, Hameln\, Niedersachsen\, 31785\, Deutschland
CATEGORIES:Jugendmeisterschaft
END:VEVENT
BEGIN:VEVENT
DTSTART;TZID=Europe/Berlin:20251130T100000
DTEND;TZID=Europe/Berlin:20251130T153000
DTSTAMP:20260422T003639
CREATED:20251126T194532Z
LAST-MODIFIED:20251130T141009Z
UID:17082-1764496800-1764516600@www.sf-aligse.de
SUMMARY:Voba: Jugendmeisterschaften – Bereichs-Qualifikation U14 männl. – Turnier 1 (in Lüneburg)
DESCRIPTION:
URL:https://www.sf-aligse.de/event/voba-jugendmeisterschaften-bereichs-qualifikation-u14-maennl-turnier-1-in-lueneburg/
LOCATION:Sporthalle Kaltenmoor I\, Theodor-Heuss-Str. 28\, Lüneburg\, Niedersachsen\, 21337
CATEGORIES:Jugendmeisterschaft
END:VEVENT
BEGIN:VEVENT
DTSTART;TZID=Europe/Berlin:20251129T200000
DTEND;TZID=Europe/Berlin:20251129T223000
DTSTAMP:20260422T003639
CREATED:20251126T195725Z
LAST-MODIFIED:20251126T195725Z
UID:17086-1764446400-1764455400@www.sf-aligse.de
SUMMARY:Voba: 2. Bundesliga Nord Männer  -  America Unlimited Volleys Aligse  vs.  PSV Neustrelitz
DESCRIPTION:
URL:https://www.sf-aligse.de/event/voba-2-bundesliga-nord-maenner-america-unlimited-volleys-aligse-vs-psv-neustrelitz-2/
LOCATION:SH Lehrte-Mitte (31275 Lehrte)\, Schlesische Straße 3\, Lehrte\, Niedersachsen\, 31275\, Deutschland
CATEGORIES:Spiele 1. Herren Volleyball
END:VEVENT
BEGIN:VEVENT
DTSTART;TZID=Europe/Berlin:20251128T191500
DTEND;TZID=Europe/Berlin:20251128T220000
DTSTAMP:20260422T003639
CREATED:20251126T193226Z
LAST-MODIFIED:20251126T193226Z
UID:17078-1764357300-1764367200@www.sf-aligse.de
SUMMARY:Voba: Regions-Liga (FS) Männer D  -  TSV Krähenwinkel-Kaltenweide  vs.  SF Aligse Hobbies 2
DESCRIPTION:
URL:https://www.sf-aligse.de/event/voba-regions-liga-fs-maenner-d-tsv-kraehenwinkel-kaltenweide-vs-sf-aligse-hobbies-2/
LOCATION:Grundschule Krähenwinkel\, Wiesenstr.\, Langenhagen OT Krähenwinkel\, Niedersachsen\, 30855\, Germany
CATEGORIES:Spiele FS-Ligen (Hobby)
END:VEVENT
BEGIN:VEVENT
DTSTART;TZID=Europe/Berlin:20251123T120000
DTEND;TZID=Europe/Berlin:20251123T163000
DTSTAMP:20260422T003639
CREATED:20251119T184637Z
LAST-MODIFIED:20251119T184637Z
UID:17040-1763899200-1763915400@www.sf-aligse.de
SUMMARY:Voba: Verbandsliga 4 (Frauen) - SC Langenhagen  vs.  SF Aligse 1
DESCRIPTION:
URL:https://www.sf-aligse.de/event/voba-verbandsliga-4-frauen-sc-langenhagen-vs-sf-aligse-1/
LOCATION:SCL-Halle\, Leibnizstr. 50\, Langenhagen\, Niedersachsen\, 30851\, Deutschland
CATEGORIES:Spiele 1. Damen Volleyball
END:VEVENT
BEGIN:VEVENT
DTSTART;TZID=Europe/Berlin:20251123T110000
DTEND;TZID=Europe/Berlin:20251123T153000
DTSTAMP:20260422T003639
CREATED:20251119T183936Z
LAST-MODIFIED:20251119T183936Z
UID:17036-1763895600-1763911800@www.sf-aligse.de
SUMMARY:Voba: Landesliga 5 (Frauen) - SF Aligse 2  vs.  GfL Hannover 4  und  TB Stöcken
DESCRIPTION:
URL:https://www.sf-aligse.de/event/voba-landesliga-5-frauen-sf-aligse-2-vs-gfl-hannover-4-und-tb-stoecken/
LOCATION:Sporthalle Friedrichstraße\, Friedrichstraße 9A\, Lehrte\, Niedersachsen\, 31275\, Deutschland
CATEGORIES:VolleyballSpiele Erwachsene (ohne Bu.-Liga/Dritte Liga)
END:VEVENT
BEGIN:VEVENT
DTSTART;TZID=Europe/Berlin:20251123T110000
DTEND;TZID=Europe/Berlin:20251123T150000
DTSTAMP:20260422T003639
CREATED:20251119T183409Z
LAST-MODIFIED:20251119T183624Z
UID:17032-1763895600-1763910000@www.sf-aligse.de
SUMMARY:Voba: Kreisliga 4 RegV Hannover (Frauen) - SV Blau-Weiß Neuhof  vs.  SF Aligse 5
DESCRIPTION:
URL:https://www.sf-aligse.de/event/voba_-kreisliga-4-regv-hannover-frauen-sv-blau-weiss-neuhof-vs-sf-aligse-5/
LOCATION:Sporthalle Neuhof\, Klingenbergstr. 57\, Hildesheim\, Niedersachsen\, 31139\, Germany
CATEGORIES:VolleyballSpiele Erwachsene (ohne Bu.-Liga/Dritte Liga)
END:VEVENT
BEGIN:VEVENT
DTSTART;TZID=Europe/Berlin:20251123T100000
DTEND;TZID=Europe/Berlin:20251123T170000
DTSTAMP:20260422T003639
CREATED:20251119T185323Z
LAST-MODIFIED:20251119T185323Z
UID:17043-1763892000-1763917200@www.sf-aligse.de
SUMMARY:Voba: Jugendmeisterschaften – Bereichs-Qualifikation U13 weibl. – Turnier 2 (in Bad Pyrmont)
DESCRIPTION:SF Aligse spielt zusammen mit MTV Bad Pyrmont und SV Nienhagen in deer Vorrundengruppe B
URL:https://www.sf-aligse.de/event/voba-jugendmeisterschaften-bereichs-qualifikation-u13-weibl-turnier-2-in-bad-pyrmont/
LOCATION:SH Bahnhofstraße\, Bahnhofstr.\, Bad Pyrmont\, Niedersachsen\, 31812\, Deutschland
CATEGORIES:Jugendmeisterschaft
END:VEVENT
BEGIN:VEVENT
DTSTART;TZID=Europe/Berlin:20251122T153000
DTEND;TZID=Europe/Berlin:20251122T180000
DTSTAMP:20260422T003639
CREATED:20251119T185654Z
LAST-MODIFIED:20251119T185654Z
UID:17045-1763825400-1763834400@www.sf-aligse.de
SUMMARY:Voba: 2. Bundesliga Nord Männer - MLK Volleys Köln  vs.  America Unlimited Volleys Aligse
DESCRIPTION:
URL:https://www.sf-aligse.de/event/voba-2-bundesliga-nord-maenner-mlk-volleys-koeln-vs-america-unlimited-volleys-aligse/
LOCATION:Städt. Gymnasium Zusestraße\, Zusestraße 47\, Köln\, Nordrhein-Westfalen\, 50859\, Deutschland
CATEGORIES:Spiele 1. Herren Volleyball
END:VEVENT
BEGIN:VEVENT
DTSTART;TZID=Europe/Berlin:20251122T150000
DTEND;TZID=Europe/Berlin:20251122T190000
DTSTAMP:20260422T003639
CREATED:20251119T183033Z
LAST-MODIFIED:20251119T183033Z
UID:17030-1763823600-1763838000@www.sf-aligse.de
SUMMARY:Voba: Bezirksliga 3 RegV Hannover (Männer) - Grasdorf/Rethen Volleys 3  vs. SF Aligse 3
DESCRIPTION:
URL:https://www.sf-aligse.de/event/voba-bezirksliga-3-regv-hannover-maenner-grasdorf-rethen-volleys-3-vs-sf-aligse-3/
LOCATION:KGS Laatzen (Albert-Einstein GS)\, Wülferoder Str. 46\, Laatzen\, Niedersachsen\, 30880\, Deutschland
CATEGORIES:VolleyballSpiele Erwachsene (ohne Bu.-Liga/Dritte Liga)
END:VEVENT
BEGIN:VEVENT
DTSTART;TZID=Europe/Berlin:20251122T150000
DTEND;TZID=Europe/Berlin:20251122T190000
DTSTAMP:20260422T003639
CREATED:20251119T182655Z
LAST-MODIFIED:20251119T182655Z
UID:17028-1763823600-1763838000@www.sf-aligse.de
SUMMARY:Voba: Bezirksklasse 5 RegV Hannover (Frauen) - SF Aligse 4  vs.  SF Aligse 3   und   TuS Altwarmbüchen 2
DESCRIPTION:
URL:https://www.sf-aligse.de/event/voba-bezirksklasse-5-regv-hannover-frauen-sf-aligse-4-vs-sf-aligse-3-und-tus-altwarmbuechen-2/
LOCATION:Grundschule Aligse\, Im Stegefeld 14\, Lehrte-Aligse\, 31275
CATEGORIES:VolleyballSpiele Erwachsene (ohne Bu.-Liga/Dritte Liga)
END:VEVENT
BEGIN:VEVENT
DTSTART;TZID=Europe/Berlin:20251122T150000
DTEND;TZID=Europe/Berlin:20251122T190000
DTSTAMP:20260422T003639
CREATED:20251119T182219Z
LAST-MODIFIED:20251119T182219Z
UID:17026-1763823600-1763838000@www.sf-aligse.de
SUMMARY:Voba: Bezirksklasse 2 RegV Hannover (Männer) - SSV Südwinsen  vs.  SF Aligse 4
DESCRIPTION:
URL:https://www.sf-aligse.de/event/voba-bezirksklasse-2-regv-hannover-maenner-ssv-suedwinsen-vs-sf-aligse-4-2/
LOCATION:Sporthalle Allertal\, Im Allertal\, Winsen (Aller)\, Niedersachsen\, 29308\, Germany
CATEGORIES:VolleyballSpiele Erwachsene (ohne Bu.-Liga/Dritte Liga)
END:VEVENT
BEGIN:VEVENT
DTSTART;TZID=Europe/Berlin:20251122T140000
DTEND;TZID=Europe/Berlin:20251122T183000
DTSTAMP:20260422T003639
CREATED:20251119T184332Z
LAST-MODIFIED:20251119T184332Z
UID:17038-1763820000-1763836200@www.sf-aligse.de
SUMMARY:Voba: Landesliga 5 (Männer) - TSV Giesen GRIZZLYS 7  vs.  SF Aligse 2
DESCRIPTION:
URL:https://www.sf-aligse.de/event/voba-landesliga-5-maenner-tsv-giesen-grizzlys-7-vs-sf-aligse-2/
LOCATION:Sporthalle Giesen (31180 Giesen)\, Emmerker Straße 6\, Giesen\, Niedersachsen\, 31180\, Deutschland
CATEGORIES:VolleyballSpiele Erwachsene (ohne Bu.-Liga/Dritte Liga)
END:VEVENT
BEGIN:VEVENT
DTSTART;TZID=Europe/Berlin:20251120T200000
DTEND;TZID=Europe/Berlin:20251120T220000
DTSTAMP:20260422T003639
CREATED:20251119T190642Z
LAST-MODIFIED:20251119T190643Z
UID:17047-1763668800-1763676000@www.sf-aligse.de
SUMMARY:Voba: Hannover Liga Mixed L - SG GfL/VfB Hannover  vs.  SF Aligse Hobbies 1
DESCRIPTION:
URL:https://www.sf-aligse.de/event/voba-hannover-liga-mixed-l-sg-gfl-vfb-hannover-vs-sf-aligse-hobbies-1/
LOCATION:BBS 14 Hannover\, Nussriede\, Hannover\, Niedersachsen\, 30627
CATEGORIES:Spiele FS-Ligen (Hobby)
END:VEVENT
BEGIN:VEVENT
DTSTART;TZID=Europe/Berlin:20251116T110000
DTEND;TZID=Europe/Berlin:20251116T160000
DTSTAMP:20260422T003639
CREATED:20251110T155312Z
LAST-MODIFIED:20251110T155312Z
UID:16980-1763290800-1763308800@www.sf-aligse.de
SUMMARY:Voba: Landesliga 5 (Männer) - SF Aligse 2  vs.  MTV Stederdorf 2  und  MTV 48 Hildesheim
DESCRIPTION:
URL:https://www.sf-aligse.de/event/voba-landesliga-5-maenner-sf-aligse-2-vs-mtv-stederdorf-2-und-mtv-48-hildesheim/
LOCATION:Grundschule Aligse\, Im Stegefeld 14\, Lehrte-Aligse\, 31275
CATEGORIES:VolleyballSpiele Erwachsene (ohne Bu.-Liga/Dritte Liga)
END:VEVENT
BEGIN:VEVENT
DTSTART;TZID=Europe/Berlin:20251116T100000
DTEND;TZID=Europe/Berlin:20251116T140000
DTSTAMP:20260422T003639
CREATED:20251114T173226Z
LAST-MODIFIED:20251114T173803Z
UID:16985-1763287200-1763301600@www.sf-aligse.de
SUMMARY:Voba: Regionsliga Hannover U13 Mixed II - SF Aligse  vs.  GfL Hannover 1\, RSV Seelze und GfL Hannover 2 - (Spieltag in Letter)
DESCRIPTION:
URL:https://www.sf-aligse.de/event/voba-regionsliga-hannover-u13-mixed-ii-sf-aligse-vs-gfl-hannover-1-rsv-seelze-und-gfl-hannover-2-spieltag-in-letter/
LOCATION:Brüder-Grimm-Schule\, Im Sande 17\, Letter\, Niedersachsen\, 30926\, Germany
CATEGORIES:Spiele Jugendligen
END:VEVENT
BEGIN:VEVENT
DTSTART;TZID=Europe/Berlin:20251115T200000
DTEND;TZID=Europe/Berlin:20251115T223000
DTSTAMP:20260422T003639
CREATED:20251110T155607Z
LAST-MODIFIED:20251110T155607Z
UID:16982-1763236800-1763245800@www.sf-aligse.de
SUMMARY:Voba: 2. Bundesliga Nord Männer - America Unlimited Volleys Aligse  vs.  FC Schüttorf 09
DESCRIPTION:
URL:https://www.sf-aligse.de/event/voba-2-bundesliga-nord-maenner-america-unlimited-volleys-aligse-vs-fc-schuettorf-09-2/
LOCATION:SH Lehrte-Mitte (31275 Lehrte)\, Schlesische Straße 3\, Lehrte\, Niedersachsen\, 31275\, Deutschland
CATEGORIES:Spiele 1. Herren Volleyball
END:VEVENT
BEGIN:VEVENT
DTSTART;TZID=Europe/Berlin:20251115T150000
DTEND;TZID=Europe/Berlin:20251115T193000
DTSTAMP:20260422T003639
CREATED:20251110T154647Z
LAST-MODIFIED:20251110T154647Z
UID:16976-1763218800-1763235000@www.sf-aligse.de
SUMMARY:Voba: Bezirksklasse 2 RegV Hannover (Männer) - SF Aligse 4  vs.  TSV Burgdorf 4  und  MTV Groß Buchholz
DESCRIPTION:
URL:https://www.sf-aligse.de/event/voba-bezirksklasse-2-regv-hannover-maenner-sf-aligse-4-vs-tsv-burgdorf-4-und-mtv-gross-buchholz/
LOCATION:Grundschule Aligse\, Im Stegefeld 14\, Lehrte-Aligse\, 31275
CATEGORIES:VolleyballSpiele Erwachsene (ohne Bu.-Liga/Dritte Liga)
END:VEVENT
BEGIN:VEVENT
DTSTART;TZID=Europe/Berlin:20251115T150000
DTEND;TZID=Europe/Berlin:20251115T190000
DTSTAMP:20260422T003639
CREATED:20251110T154949Z
LAST-MODIFIED:20251110T154949Z
UID:16978-1763218800-1763233200@www.sf-aligse.de
SUMMARY:Voba: Landesliga 5 (Frauen) - PSV Hannover 2  vs.  SF Aligse 2
DESCRIPTION:
URL:https://www.sf-aligse.de/event/voba-landesliga-5-frauen-psv-hannover-2-vs-sf-aligse-2/
LOCATION:Bereitschaftspolizei Hanover\, Tannenbergallee 11\, Hannover\, Niedersachsen\, 30163\, Deutschland
CATEGORIES:VolleyballSpiele Erwachsene (ohne Bu.-Liga/Dritte Liga)
END:VEVENT
BEGIN:VEVENT
DTSTART;TZID=Europe/Berlin:20251115T150000
DTEND;TZID=Europe/Berlin:20251115T190000
DTSTAMP:20260422T003639
CREATED:20251110T154333Z
LAST-MODIFIED:20251110T161329Z
UID:16974-1763218800-1763233200@www.sf-aligse.de
SUMMARY:Voba: Bezirksklasse 5 RegV Hannover (Frauen) - TuS Altwarmbüchen 3  vs.  SF Aligse 4
DESCRIPTION:
URL:https://www.sf-aligse.de/event/voba-bezirksklasse-5-regv-hannover-frauen-tus-altwarmbuechen-3-vs-sf-aligse-4/
LOCATION:SH Campus Isernhagen\, Helleweg 1\, Isernhagen\, Niedersachsen\, 30916\, Deutschland
CATEGORIES:VolleyballSpiele Erwachsene (ohne Bu.-Liga/Dritte Liga)
END:VEVENT
BEGIN:VEVENT
DTSTART;TZID=Europe/Berlin:20251115T130000
DTEND;TZID=Europe/Berlin:20251115T170000
DTSTAMP:20260422T003639
CREATED:20251110T154010Z
LAST-MODIFIED:20251110T154010Z
UID:16972-1763211600-1763226000@www.sf-aligse.de
SUMMARY:Voba: Verbandsliga 4 (Frauen) - SF Aligse 1  vs.  GfL Hannover 2  und  SVG Lüneburg 2
DESCRIPTION:
URL:https://www.sf-aligse.de/event/voba-verbandsliga-4-frauen-sf-aligse-1-vs-gfl-hannover-2-und-svg-lueneburg-2/
LOCATION:SH Lehrte-Mitte (31275 Lehrte)\, Schlesische Straße 3\, Lehrte\, Niedersachsen\, 31275\, Deutschland
CATEGORIES:Spiele 1. Damen Volleyball
END:VEVENT
BEGIN:VEVENT
DTSTART;TZID=Europe/Berlin:20251109T100000
DTEND;TZID=Europe/Berlin:20251109T163000
DTSTAMP:20260422T003639
CREATED:20251104T231317Z
LAST-MODIFIED:20251104T231317Z
UID:16954-1762682400-1762705800@www.sf-aligse.de
SUMMARY:Voba: Jugendmeisterschaften - Bereichs-Qualifikation U20 männl. - Turnier 1 (in Salzgitter-Bad)
DESCRIPTION:Das Team der SF Aligse spielt die Vorrunde in der Gruppe A
URL:https://www.sf-aligse.de/event/voba-jugendmeisterschaften-bereichs-qualifikation-u20-maennl-turnier-1-in-salzgitter-bad/
LOCATION:SH Gymnasium Salzgitter Bad\, Am Eikel 22\, Salzgitter-Bad\, Niedersachsen\, 38259\, Deutschland
CATEGORIES:Jugendmeisterschaft
END:VEVENT
BEGIN:VEVENT
DTSTART;TZID=Europe/Berlin:20251109T100000
DTEND;TZID=Europe/Berlin:20251109T160000
DTSTAMP:20260422T003639
CREATED:20251104T230830Z
LAST-MODIFIED:20251104T230830Z
UID:16950-1762682400-1762704000@www.sf-aligse.de
SUMMARY:Voba: Jugendmeisterschaften - Bereichs-Qualifikation U16 weibl. - Turnier 1 (in Dransfeld)
DESCRIPTION:Das Team der SF Aligse spielt die Vorrunde in der Gruppe A
URL:https://www.sf-aligse.de/event/voba-jugendmeisterschaften-bereichs-qualifikation-u16-weibl-turnier-1-in-dransfeld/
LOCATION:Turnhalle Dransfeld\, Am Bleichanger\, Dransfeld\, Niedersachsen\, 37127
CATEGORIES:Jugendmeisterschaft
END:VEVENT
BEGIN:VEVENT
DTSTART;TZID=Europe/Berlin:20251108T150000
DTEND;TZID=Europe/Berlin:20251108T193000
DTSTAMP:20260422T003639
CREATED:20251104T225743Z
LAST-MODIFIED:20251104T225743Z
UID:16948-1762614000-1762630200@www.sf-aligse.de
SUMMARY:Voba: Bezirksklasse 5 RegV Hannover (Frauen) - VfL Westercelle 2  vs.  SF Aligse 3
DESCRIPTION:
URL:https://www.sf-aligse.de/event/voba-bezirksklasse-5-regv-hannover-frauen-vfl-westercelle-2-vs-sf-aligse-3/
LOCATION:SH Scheuen\, Blöcken\, Scheuen\, Niedersachsen\, 29229\, Deutschland
CATEGORIES:VolleyballSpiele Erwachsene (ohne Bu.-Liga/Dritte Liga)
END:VEVENT
BEGIN:VEVENT
DTSTART;TZID=Europe/Berlin:20251105T193000
DTEND;TZID=Europe/Berlin:20251105T220000
DTSTAMP:20260422T003639
CREATED:20251028T181709Z
LAST-MODIFIED:20251028T181709Z
UID:16910-1762371000-1762380000@www.sf-aligse.de
SUMMARY:Voba: Regions-Liga (FS) Männer D - SF Aligse Hobby 2  vs.  VfL Eintracht Hannover 2
DESCRIPTION:
URL:https://www.sf-aligse.de/event/voba-regions-liga-fs-maenner-d-sf-aligse-hobby-2-vs-vfl-eintracht-hannover-2/
LOCATION:Schulzentrum Lehrte-Ost\, Riedweg 12\, Lehrte (OT Hämelerwald)\, Niedersachsen\, 31275\, Deutschland
CATEGORIES:Spiele FS-Ligen (Hobby)
END:VEVENT
BEGIN:VEVENT
DTSTART;TZID=Europe/Berlin:20251102T120000
DTEND;TZID=Europe/Berlin:20251102T163000
DTSTAMP:20260422T003640
CREATED:20251028T180924Z
LAST-MODIFIED:20251028T180924Z
UID:16905-1762084800-1762101000@www.sf-aligse.de
SUMMARY:Voba: Bezirksklasse 5 RegV Hannover (Frauen) - SF Aligse 3  vs.  TSV Burgdorf 3  und  TuS Altwarmbüchen 3
DESCRIPTION:
URL:https://www.sf-aligse.de/event/voba-bezirksklasse-5-regv-hannover-frauen-sf-aligse-3-vs-tsv-burgdorf-3-und-tus-altwarmbuechen-3/
LOCATION:Grundschule Aligse\, Im Stegefeld 14\, Lehrte-Aligse\, 31275
CATEGORIES:VolleyballSpiele Erwachsene (ohne Bu.-Liga/Dritte Liga)
END:VEVENT
BEGIN:VEVENT
DTSTART;TZID=Europe/Berlin:20251102T110000
DTEND;TZID=Europe/Berlin:20251102T153000
DTSTAMP:20260422T003640
CREATED:20251028T180537Z
LAST-MODIFIED:20251028T181332Z
UID:16903-1762081200-1762097400@www.sf-aligse.de
SUMMARY:Voba: Bezirksklasse 2 RegV Hannover (Männer) - TuS Vahrenwald 2  vs.  SF Aligse 4
DESCRIPTION:
URL:https://www.sf-aligse.de/event/voba-bezirksklasse-2-regv-hannover-maenner-tus-vahrenwald-2-vs-sf-aligse-4/
LOCATION:Lutherschule\, An der Lutherkirche 18\, Hannover\, Niedersachsen\, 30167\, Deutschland
CATEGORIES:VolleyballSpiele Erwachsene (ohne Bu.-Liga/Dritte Liga)
END:VEVENT
BEGIN:VEVENT
DTSTART;TZID=Europe/Berlin:20251102T100000
DTEND;TZID=Europe/Berlin:20251102T140000
DTSTAMP:20260422T003640
CREATED:20251031T134035Z
LAST-MODIFIED:20251031T134035Z
UID:16919-1762077600-1762092000@www.sf-aligse.de
SUMMARY:Voba: Regionsliga Hannover U14m I - SF Aligse 1 und SF Aligse 2  vs.   SSV Südwinsen\, SV Nienhagen und TSV Burgdorf - Spieltag 2 in Burgdorf
DESCRIPTION:
URL:https://www.sf-aligse.de/event/voba-regionsliga-hannover-u14m-i-sf-aligse-1-und-sf-aligse-2-vs-ssv-suedwinsen-sv-nienhagen-und-tsv-burgdorf-spieltag-2-in-burgdorf/
LOCATION:IGS Burgdorf (große Halle)\, Vor dem Celler Tor 91\, Burgdorf\, Niedersachsen\, 31303
CATEGORIES:Spiele Jugendligen
END:VEVENT
END:VCALENDAR